BEGIN:VCALENDAR
VERSION:2.0
PRODID:-//RC NY Tri-State - ECPv6.15.20//NONSGML v1.0//EN
CALSCALE:GREGORIAN
METHOD:PUBLISH
X-WR-CALNAME:RC NY Tri-State
X-ORIGINAL-URL:https://rcnytristate.org
X-WR-CALDESC:Events for RC NY Tri-State
REFRESH-INTERVAL;VALUE=DURATION:PT1H
X-Robots-Tag:noindex
X-PUBLISHED-TTL:PT1H
BEGIN:VTIMEZONE
TZID:America/New_York
BEGIN:DAYLIGHT
TZOFFSETFROM:-0500
TZOFFSETTO:-0400
TZNAME:EDT
DTSTART:20230312T070000
END:DAYLIGHT
BEGIN:STANDARD
TZOFFSETFROM:-0400
TZOFFSETTO:-0500
TZNAME:EST
DTSTART:20231105T060000
END:STANDARD
BEGIN:DAYLIGHT
TZOFFSETFROM:-0500
TZOFFSETTO:-0400
TZNAME:EDT
DTSTART:20240310T070000
END:DAYLIGHT
BEGIN:STANDARD
TZOFFSETFROM:-0400
TZOFFSETTO:-0500
TZNAME:EST
DTSTART:20241103T060000
END:STANDARD
BEGIN:DAYLIGHT
TZOFFSETFROM:-0500
TZOFFSETTO:-0400
TZNAME:EDT
DTSTART:20250309T070000
END:DAYLIGHT
BEGIN:STANDARD
TZOFFSETFROM:-0400
TZOFFSETTO:-0500
TZNAME:EST
DTSTART:20251102T060000
END:STANDARD
END:VTIMEZONE
BEGIN:VEVENT
DTSTART;TZID=America/New_York:20240201T193000
DTEND;TZID=America/New_York:20240201T204500
DTSTAMP:20260421T060604
CREATED:20230713T133154Z
LAST-MODIFIED:20240111T174142Z
UID:16937-1706815800-1706820300@rcnytristate.org
SUMMARY:Marriage Evening
DESCRIPTION:Join other couples in the church for a talk and meditation by Fr. Jorge Obregón\, L.C. on “Healing in Marriage: How Each Couple Heals Together in their Journey.” Following the talk\, there will be time for you and your spouse to pray and share your thoughts. At the end\, there will be fellowship with the other couples. \nREGISTER \nShare post:
URL:https://rcnytristate.org/event/marriage-evening-6/
LOCATION:Church of the Resurrection\, 910 Boston Post Rd\, Rye\, NY\, 10580\, United States
CATEGORIES:marriage renewal
ATTACH;FMTTYPE=image/jpeg:https://rcnytristate.org/wp-content/uploads/2023/04/marriage-renewal-fc-e1682973190773.jpg
ORGANIZER;CN="Lisa Leonard":MAILTO:sixleonards@aol.com
END:VEVENT
END:VCALENDAR