BEGIN:VCALENDAR
VERSION:2.0
PRODID:-//RC NY Tri-State - ECPv6.15.20//NONSGML v1.0//EN
CALSCALE:GREGORIAN
METHOD:PUBLISH
X-WR-CALNAME:RC NY Tri-State
X-ORIGINAL-URL:https://rcnytristate.org
X-WR-CALDESC:Events for RC NY Tri-State
REFRESH-INTERVAL;VALUE=DURATION:PT1H
X-Robots-Tag:noindex
X-PUBLISHED-TTL:PT1H
BEGIN:VTIMEZONE
TZID:America/New_York
BEGIN:DAYLIGHT
TZOFFSETFROM:-0500
TZOFFSETTO:-0400
TZNAME:EDT
DTSTART:20230312T070000
END:DAYLIGHT
BEGIN:STANDARD
TZOFFSETFROM:-0400
TZOFFSETTO:-0500
TZNAME:EST
DTSTART:20231105T060000
END:STANDARD
BEGIN:DAYLIGHT
TZOFFSETFROM:-0500
TZOFFSETTO:-0400
TZNAME:EDT
DTSTART:20240310T070000
END:DAYLIGHT
BEGIN:STANDARD
TZOFFSETFROM:-0400
TZOFFSETTO:-0500
TZNAME:EST
DTSTART:20241103T060000
END:STANDARD
BEGIN:DAYLIGHT
TZOFFSETFROM:-0500
TZOFFSETTO:-0400
TZNAME:EDT
DTSTART:20250309T070000
END:DAYLIGHT
BEGIN:STANDARD
TZOFFSETFROM:-0400
TZOFFSETTO:-0500
TZNAME:EST
DTSTART:20251102T060000
END:STANDARD
END:VTIMEZONE
BEGIN:VEVENT
DTSTART;TZID=America/New_York:20240113T093000
DTEND;TZID=America/New_York:20240113T130000
DTSTAMP:20260421T043844
CREATED:20230330T214748Z
LAST-MODIFIED:20240110T000025Z
UID:16287-1705138200-1705150800@rcnytristate.org
SUMMARY:Young Adult Welcome Retreat
DESCRIPTION:We all need goals. We all want to dream big and start a new year with FIRE. Your faith and a community are crucial for success. A coach is necessary to stop surviving and start thriving. The time is now! Find a moment to connect with Christ and prepare your heart for the next step in your journey! \nWe will offer:\nConfessions\nAdoration\nPrayer time\nFellowship\nMass \nREGISTER \nShare post:
URL:https://rcnytristate.org/event/young-adult-advent-mini-retreat-2/
LOCATION:Old St. Patrick’s Cathedral\, 263 Mulberry St.\, New York\, 10012\, United States
CATEGORIES:mini retreats
ATTACH;FMTTYPE=image/jpeg:https://rcnytristate.org/wp-content/uploads/2023/03/YA-Welcome-Retreat-picture.jpg
ORGANIZER;CN="Angeli Scott":MAILTO:angeliatprayer@gmail.com
END:VEVENT
END:VCALENDAR