BEGIN:VCALENDAR
VERSION:2.0
PRODID:-//RC NY Tri-State - ECPv6.15.20//NONSGML v1.0//EN
CALSCALE:GREGORIAN
METHOD:PUBLISH
X-WR-CALNAME:RC NY Tri-State
X-ORIGINAL-URL:https://rcnytristate.org
X-WR-CALDESC:Events for RC NY Tri-State
REFRESH-INTERVAL;VALUE=DURATION:PT1H
X-Robots-Tag:noindex
X-PUBLISHED-TTL:PT1H
BEGIN:VTIMEZONE
TZID:America/New_York
BEGIN:DAYLIGHT
TZOFFSETFROM:-0500
TZOFFSETTO:-0400
TZNAME:EDT
DTSTART:20240310T070000
END:DAYLIGHT
BEGIN:STANDARD
TZOFFSETFROM:-0400
TZOFFSETTO:-0500
TZNAME:EST
DTSTART:20241103T060000
END:STANDARD
BEGIN:DAYLIGHT
TZOFFSETFROM:-0500
TZOFFSETTO:-0400
TZNAME:EDT
DTSTART:20250309T070000
END:DAYLIGHT
BEGIN:STANDARD
TZOFFSETFROM:-0400
TZOFFSETTO:-0500
TZNAME:EST
DTSTART:20251102T060000
END:STANDARD
BEGIN:DAYLIGHT
TZOFFSETFROM:-0500
TZOFFSETTO:-0400
TZNAME:EDT
DTSTART:20260308T070000
END:DAYLIGHT
BEGIN:STANDARD
TZOFFSETFROM:-0400
TZOFFSETTO:-0500
TZNAME:EST
DTSTART:20261101T060000
END:STANDARD
END:VTIMEZONE
BEGIN:VEVENT
DTSTART;TZID=America/New_York:20250111T091500
DTEND;TZID=America/New_York:20250111T123000
DTSTAMP:20260422T203920
CREATED:20240819T155924Z
LAST-MODIFIED:20240906T205907Z
UID:22561-1736586900-1736598600@rcnytristate.org
SUMMARY:Time\, Eternity and the Kingdom: Women's Morning Retreat
DESCRIPTION:The morning will begin with light refreshments and a talk followed by Exposition\, Meditation\, and Mass. \nREGISTER
URL:https://rcnytristate.org/event/rye-morning-of-reflection-for-women-4/
LOCATION:LC Rye community house\, 815 Boston Post Road\, Rye\, NY\, 10580\, United States
CATEGORIES:mini retreats
ATTACH;FMTTYPE=image/png:https://rcnytristate.org/wp-content/uploads/2024/08/Assumption-Novena-900-x-600-px-900-x-500-px-3.png
ORGANIZER;CN="Valerie Anastasio":MAILTO:valerieanastasio@me.com
END:VEVENT
BEGIN:VEVENT
DTSTART;TZID=America/New_York:20250115T093000
DTEND;TZID=America/New_York:20250115T120000
DTSTAMP:20260422T203920
CREATED:20240731T193304Z
LAST-MODIFIED:20240906T211104Z
UID:22228-1736933400-1736942400@rcnytristate.org
SUMMARY:NJ Morning of Reflection for Women
DESCRIPTION:Join us for our monthly mini retreat. \nEach retreat includes Mass\, the opportunity for Confession\, a reflection for the mind and heart\, and time for fellowship. \nFee for Regnum Christi Members: $25 \nFee for guests: $10 \nFree childcare will be available during this retreat. \nREGISTER
URL:https://rcnytristate.org/event/nj-morning-of-reflection-for-women/
LOCATION:Shrine of St. Joseph\, 1050 LONG HILL ROAD\, Stirling\, 07980\, United States
CATEGORIES:mini retreats
ATTACH;FMTTYPE=image/png:https://rcnytristate.org/wp-content/uploads/2024/07/NJ-MOR.png
ORGANIZER;CN="Sue Zavodny":MAILTO:zavodnys@comcast.net
END:VEVENT
BEGIN:VEVENT
DTSTART;TZID=America/New_York:20250115T183000
DTEND;TZID=America/New_York:20250115T210000
DTSTAMP:20260422T203920
CREATED:20240819T160123Z
LAST-MODIFIED:20240906T211354Z
UID:22565-1736965800-1736974800@rcnytristate.org
SUMMARY:NJ Evening of Reflection for Women
DESCRIPTION:Join us for our monthly mini retreat. \nEach retreat includes Mass\, the opportunity for Confession\, a reflection for the mind and heart\, and time for fellowship. \nFee for Regnum Christi Members: $25 \nFee for guests: $10 \nREGISTER
URL:https://rcnytristate.org/event/nj-evening-of-reflection-for-women-6/
LOCATION:Shrine of St. Joseph\, 1050 LONG HILL ROAD\, Stirling\, 07980\, United States
CATEGORIES:mini retreats
ATTACH;FMTTYPE=image/png:https://rcnytristate.org/wp-content/uploads/2024/07/NJ-EOR.png
ORGANIZER;CN="Sue Zavodny":MAILTO:zavodnys@comcast.net
END:VEVENT
END:VCALENDAR