BEGIN:VCALENDAR
VERSION:2.0
PRODID:-//RC NY Tri-State - ECPv6.15.20//NONSGML v1.0//EN
CALSCALE:GREGORIAN
METHOD:PUBLISH
X-WR-CALNAME:RC NY Tri-State
X-ORIGINAL-URL:https://rcnytristate.org
X-WR-CALDESC:Events for RC NY Tri-State
REFRESH-INTERVAL;VALUE=DURATION:PT1H
X-Robots-Tag:noindex
X-PUBLISHED-TTL:PT1H
BEGIN:VTIMEZONE
TZID:America/New_York
BEGIN:DAYLIGHT
TZOFFSETFROM:-0500
TZOFFSETTO:-0400
TZNAME:EDT
DTSTART:20240310T070000
END:DAYLIGHT
BEGIN:STANDARD
TZOFFSETFROM:-0400
TZOFFSETTO:-0500
TZNAME:EST
DTSTART:20241103T060000
END:STANDARD
BEGIN:DAYLIGHT
TZOFFSETFROM:-0500
TZOFFSETTO:-0400
TZNAME:EDT
DTSTART:20250309T070000
END:DAYLIGHT
BEGIN:STANDARD
TZOFFSETFROM:-0400
TZOFFSETTO:-0500
TZNAME:EST
DTSTART:20251102T060000
END:STANDARD
BEGIN:DAYLIGHT
TZOFFSETFROM:-0500
TZOFFSETTO:-0400
TZNAME:EDT
DTSTART:20260308T070000
END:DAYLIGHT
BEGIN:STANDARD
TZOFFSETFROM:-0400
TZOFFSETTO:-0500
TZNAME:EST
DTSTART:20261101T060000
END:STANDARD
END:VTIMEZONE
BEGIN:VEVENT
DTSTART;TZID=America/New_York:20250517T091500
DTEND;TZID=America/New_York:20250517T123000
DTSTAMP:20260422T144356
CREATED:20240819T160005Z
LAST-MODIFIED:20240916T232220Z
UID:22563-1747473300-1747485000@rcnytristate.org
SUMMARY:Mary\, Queen of Hearts: Rye Morning of Reflection for Women
DESCRIPTION:The morning will begin with light refreshments and a talk followed by Exposition\, Meditation\, and Mass. \nREGISTER
URL:https://rcnytristate.org/event/rye-morning-of-reflection-for-women-6/
LOCATION:LC Rye community house\, 815 Boston Post Road\, Rye\, NY\, 10580\, United States
CATEGORIES:mini retreats
ATTACH;FMTTYPE=image/png:https://rcnytristate.org/wp-content/uploads/2024/08/Assumption-Novena-900-x-600-px-900-x-500-px-8.png
ORGANIZER;CN="Valerie Anastasio":MAILTO:valerieanastasio@me.com
END:VEVENT
BEGIN:VEVENT
DTSTART;TZID=America/New_York:20250517T100000
DTEND;TZID=America/New_York:20250517T140000
DTSTAMP:20260422T144356
CREATED:20250108T010736Z
LAST-MODIFIED:20250513T201417Z
UID:23750-1747476000-1747490400@rcnytristate.org
SUMMARY:Young Adult Formation: Emotional Intelligence
DESCRIPTION:We want to invite you to our morning retreat at Old St. Patrick’s Cathedral. This retreat will include guided meditations\, adoration\, confessions\, lunch and more! \nPlease donate $15 to cover pizza and coffee @RCNewYork. \nTo learn more or register\, please contact Fr. Jorge Obregón\, LC at jobregon@legionaries.org
URL:https://rcnytristate.org/event/young-adult-formation-emotional-intelligence/
LOCATION:St. Patrick’s Old Cathedral School\, 32 Prince Street\, New York City\, NY\, 10012\, United States
CATEGORIES:mini retreats,Young Adult
ATTACH;FMTTYPE=image/png:https://rcnytristate.org/wp-content/uploads/2025/01/7.png
ORGANIZER;CN="Fr. Jorge Obregon":MAILTO:jobregon@legionaries.org
END:VEVENT
BEGIN:VEVENT
DTSTART;TZID=America/New_York:20250531T090000
DTEND;TZID=America/New_York:20250531T123000
DTSTAMP:20260422T144356
CREATED:20250522T182857Z
LAST-MODIFIED:20250529T210731Z
UID:24920-1748682000-1748694600@rcnytristate.org
SUMMARY:Women's Morning of Reflection
DESCRIPTION:Please join us for a Morning of Reflection. \n  \nRSVP to Suzi Porter at suzip@snet.net 
URL:https://rcnytristate.org/event/womens-morning-of-reflection/
LOCATION:Legionaries of Christ Novitiate and College of Humanities\, 475 Oak Avenue\, Cheshire\, CT\, 06410\, United States
CATEGORIES:mini retreats
ATTACH;FMTTYPE=image/png:https://rcnytristate.org/wp-content/uploads/2025/05/MOR_FinalFlyerMAY2025-1600-x-900-px.png
ORGANIZER;CN="suzip@snet.net":MAILTO:suzip@snet.net
END:VEVENT
END:VCALENDAR