BEGIN:VCALENDAR
VERSION:2.0
PRODID:-//RC NY Tri-State - ECPv6.15.20//NONSGML v1.0//EN
CALSCALE:GREGORIAN
METHOD:PUBLISH
X-WR-CALNAME:RC NY Tri-State
X-ORIGINAL-URL:https://rcnytristate.org
X-WR-CALDESC:Events for RC NY Tri-State
REFRESH-INTERVAL;VALUE=DURATION:PT1H
X-Robots-Tag:noindex
X-PUBLISHED-TTL:PT1H
BEGIN:VTIMEZONE
TZID:America/New_York
BEGIN:DAYLIGHT
TZOFFSETFROM:-0500
TZOFFSETTO:-0400
TZNAME:EDT
DTSTART:20240310T070000
END:DAYLIGHT
BEGIN:STANDARD
TZOFFSETFROM:-0400
TZOFFSETTO:-0500
TZNAME:EST
DTSTART:20241103T060000
END:STANDARD
BEGIN:DAYLIGHT
TZOFFSETFROM:-0500
TZOFFSETTO:-0400
TZNAME:EDT
DTSTART:20250309T070000
END:DAYLIGHT
BEGIN:STANDARD
TZOFFSETFROM:-0400
TZOFFSETTO:-0500
TZNAME:EST
DTSTART:20251102T060000
END:STANDARD
BEGIN:DAYLIGHT
TZOFFSETFROM:-0500
TZOFFSETTO:-0400
TZNAME:EDT
DTSTART:20260308T070000
END:DAYLIGHT
BEGIN:STANDARD
TZOFFSETFROM:-0400
TZOFFSETTO:-0500
TZNAME:EST
DTSTART:20261101T060000
END:STANDARD
BEGIN:DAYLIGHT
TZOFFSETFROM:-0500
TZOFFSETTO:-0400
TZNAME:EDT
DTSTART:20270314T070000
END:DAYLIGHT
BEGIN:STANDARD
TZOFFSETFROM:-0400
TZOFFSETTO:-0500
TZNAME:EST
DTSTART:20271107T060000
END:STANDARD
END:VTIMEZONE
BEGIN:VEVENT
DTSTART;TZID=America/New_York:20251206T100000
DTEND;TZID=America/New_York:20251206T140000
DTSTAMP:20260423T044515
CREATED:20250428T192043Z
LAST-MODIFIED:20250428T192043Z
UID:24710-1765015200-1765029600@rcnytristate.org
SUMMARY:Young Adult Advent Retreat
DESCRIPTION:We want to invite you to our Advent retreat at Old St. Patrick’s Cathedral. This retreat will include guided meditations\, adoration\, confessions\, lunch and more! \nTo learn more or register\, please contact Fr. Jorge Obregón\, LC at jobregon@legionaries.org
URL:https://rcnytristate.org/event/young-adult-advent-retreat/
LOCATION:St. Patrick’s Old Cathedral School\, 32 Prince Street\, New York City\, NY\, 10012\, United States
CATEGORIES:mini retreats,Young Adult
ATTACH;FMTTYPE=image/png:https://rcnytristate.org/wp-content/uploads/2025/01/Heading-2.png
ORGANIZER;CN="Fr. Jorge Obregon":MAILTO:jobregon@legionaries.org
END:VEVENT
BEGIN:VEVENT
DTSTART;TZID=America/New_York:20251217T093000
DTEND;TZID=America/New_York:20251217T123000
DTSTAMP:20260423T044515
CREATED:20250819T023529Z
LAST-MODIFIED:20251112T012139Z
UID:26079-1765963800-1765974600@rcnytristate.org
SUMMARY:NJ Advent Morning of Reflection
DESCRIPTION:Come and prepare your hearts for Christmas. We will learn from Mary’s example how to patiently pause\, ponder and pray this Advent season as we await the coming of our King and Savior. \nEach retreat includes Mass\, the opportunity for Confession\, a reflection for the mind and heart\, and time for fellowship. \nFee for Regnum Christi Members: $25 \nFee for guests: $10 \nREGISTER
URL:https://rcnytristate.org/event/nj-advent-morning-of-reflection/
LOCATION:Shrine of St. Joseph\, 1050 LONG HILL ROAD\, Stirling\, 07980\, United States
CATEGORIES:mini retreats
ATTACH;FMTTYPE=image/png:https://rcnytristate.org/wp-content/uploads/2025/08/Retreat-Flyer-Drafts-1600-x-900-px.png
ORGANIZER;CN="Sue Zavodny":MAILTO:zavodnys@comcast.net
END:VEVENT
BEGIN:VEVENT
DTSTART;TZID=America/New_York:20260117T091500
DTEND;TZID=America/New_York:20260117T123000
DTSTAMP:20260423T044515
CREATED:20250822T202521Z
LAST-MODIFIED:20260107T020108Z
UID:26113-1768641300-1768653000@rcnytristate.org
SUMMARY:NY/CT Morning of Reflection
DESCRIPTION:The morning will include a light breakfast and hospitality followed by a talk and open discussion\, Mass\, Eucharistic Adoration and opportunity for Confession \nREGISTER \n 
URL:https://rcnytristate.org/event/ny-ct-morning-of-reflection/
LOCATION:LC Rye community house\, 815 Boston Post Road\, Rye\, NY\, 10580\, United States
CATEGORIES:mini retreats
ATTACH;FMTTYPE=image/png:https://rcnytristate.org/wp-content/uploads/2025/08/2026-Blessed-Be-Retreat.png
ORGANIZER;CN="Lisa Rooney":MAILTO:lisarooney76@gmail.com
END:VEVENT
BEGIN:VEVENT
DTSTART;TZID=America/New_York:20260121T093000
DTEND;TZID=America/New_York:20260121T123000
DTSTAMP:20260423T044515
CREATED:20250819T022647Z
LAST-MODIFIED:20251013T184736Z
UID:26081-1768987800-1768998600@rcnytristate.org
SUMMARY:NJ Morning of Reflection for Regnum Christi Women
DESCRIPTION:This retreat is for Regnum Christi women only and includes Mass\, the opportunity for Confession\, a reflection for the mind and heart\, and time for fellowship. \nIf you are not Regnum Christi\, please join us for our retreat on Mar. 18th. \nREGISTER \n 
URL:https://rcnytristate.org/event/nj-morning-of-reflection-for-regnum-christi-women-2/
LOCATION:Shrine of St. Joseph\, 1050 LONG HILL ROAD\, Stirling\, 07980\, United States
CATEGORIES:mini retreats,Retreats
ATTACH;FMTTYPE=image/png:https://rcnytristate.org/wp-content/uploads/2025/08/2024-Professions-8.png
ORGANIZER;CN="Sue Zavodny":MAILTO:zavodnys@comcast.net
END:VEVENT
BEGIN:VEVENT
DTSTART;VALUE=DATE:20260124
DTEND;VALUE=DATE:20260125
DTSTAMP:20260423T044515
CREATED:20260122T032407Z
LAST-MODIFIED:20260122T032407Z
UID:27701-1769212800-1769299199@rcnytristate.org
SUMMARY:Young Adult DIscover RC Formation
DESCRIPTION:We want to invite you to our morning retreat at Old St. Patrick’s Cathedral. This retreat will include guided meditations\, adoration\, confessions\, lunch and more! \nPlease donate $15 to cover pizza and coffee @RCNewYork. \nTo learn more or register\, please contact Fr. Jorge Obregón\, LC at jobregon@legionaries.org
URL:https://rcnytristate.org/event/young-adult-discover-rc-formation/
LOCATION:St. Patrick’s Old Cathedral School\, 32 Prince Street\, New York City\, NY\, 10012\, United States
CATEGORIES:mini retreats,Young Adult
ATTACH;FMTTYPE=image/png:https://rcnytristate.org/wp-content/uploads/2025/01/7.png
ORGANIZER;CN="Fr. Jorge Obregon":MAILTO:jobregon@legionaries.org
END:VEVENT
BEGIN:VEVENT
DTSTART;VALUE=DATE:20260207
DTEND;VALUE=DATE:20260208
DTSTAMP:20260423T044515
CREATED:20260122T032718Z
LAST-MODIFIED:20260302T170459Z
UID:27703-1770422400-1770508799@rcnytristate.org
SUMMARY:Young Adult - Theology of the Body Formation
DESCRIPTION:We want to invite you to our morning retreat at Old St. Patrick’s Cathedral. This retreat will include guided meditations\, adoration\, confessions\, lunch and more! \nPlease donate $15 to cover pizza and coffee @RCNewYork. \nTo learn more or register\, please contact Fr. Jorge Obregón\, LC at jobregon@legionaries.org
URL:https://rcnytristate.org/event/young-adult-theology-of-the-body-formation/
LOCATION:St. Patrick’s Old Cathedral School\, 32 Prince Street\, New York City\, NY\, 10012\, United States
CATEGORIES:mini retreats,Young Adult
ATTACH;FMTTYPE=image/png:https://rcnytristate.org/wp-content/uploads/2026/01/Nov5-AdventVideoMR-5-1.png
ORGANIZER;CN="Fr. Jorge Obregon":MAILTO:jobregon@legionaries.org
END:VEVENT
BEGIN:VEVENT
DTSTART;VALUE=DATE:20260314
DTEND;VALUE=DATE:20260316
DTSTAMP:20260423T044515
CREATED:20260122T032854Z
LAST-MODIFIED:20260302T170458Z
UID:27704-1773446400-1773619199@rcnytristate.org
SUMMARY:Young Adult Silent Retreat
DESCRIPTION:Silence is one of the most powerful ways to go deeper in our spiritual life. This Silent Retreat at the Basilica of Old St. Patrick’s offers young professionals a unique opportunity to step away from the noise of daily life and enter into two days of quiet renewal through the Ignatian Spiritual Exercises. \nYoung adults ages 20–39 who are looking to deepen their relationship with God through silence\, reflection\, and spiritual direction are welcome. \nWhat the Retreat Includes\nParticipants will experience the Ignatian Spiritual Exercises through: \n\n\nDaily Mass \n\n\nGuided meditations \n\n\nExtended periods of silence \n\n\nOne-on-one spiritual direction \n\n\nConfession \n\n\nHelp crafting a personal Program of Life \n\n\nCost\n$105 USD (payable via Venmo @RCNewYork) \nTo learn more or register\, please contact Fr. Jorge Obregón\, LC at jobregon@legionaries.org
URL:https://rcnytristate.org/event/young-adult-silent-retreat/
LOCATION:St. Patrick’s Old Cathedral School\, 32 Prince Street\, New York City\, NY\, 10012\, United States
CATEGORIES:mini retreats,Young Adult
ATTACH;FMTTYPE=image/png:https://rcnytristate.org/wp-content/uploads/2026/01/Nov5-AdventVideoMR-7.png
ORGANIZER;CN="Fr. Jorge Obregon":MAILTO:jobregon@legionaries.org
END:VEVENT
BEGIN:VEVENT
DTSTART;TZID=America/New_York:20260318T093000
DTEND;TZID=America/New_York:20260318T123000
DTSTAMP:20260423T044515
CREATED:20250819T022806Z
LAST-MODIFIED:20260302T170458Z
UID:26083-1773826200-1773837000@rcnytristate.org
SUMMARY:NJ Lenten Morning of Reflection
DESCRIPTION:Join us for our monthly mini retreat. \nEach retreat includes Mass\, the opportunity for Confession\, a reflection for the mind and heart\, and time for fellowship. \nFee for Regnum Christi Members: $25 \nFee for guests: $10 \nREGISTER
URL:https://rcnytristate.org/event/nj-morning-of-reflection/
LOCATION:Shrine of St. Joseph\, 1050 LONG HILL ROAD\, Stirling\, 07980\, United States
CATEGORIES:mini retreats,Retreats
ATTACH;FMTTYPE=image/png:https://rcnytristate.org/wp-content/uploads/2025/08/Nov5-AdventVideoMR-3.png
ORGANIZER;CN="Sue Zavodny":MAILTO:zavodnys@comcast.net
END:VEVENT
BEGIN:VEVENT
DTSTART;TZID=America/New_York:20260321T090000
DTEND;TZID=America/New_York:20260321T120000
DTSTAMP:20260423T044515
CREATED:20250822T202436Z
LAST-MODIFIED:20260302T170458Z
UID:26118-1774083600-1774094400@rcnytristate.org
SUMMARY:NY/CT Lenten Morning of Reflection
DESCRIPTION:Coffee\, tea\, and light breakfast will be offered; bring your favorite treat to share. The morning retreat will be led by a Legionary priest and include a talk\, meditation\, Exposition\, Reconciliation\, and Mass. \nREGISTER \n 
URL:https://rcnytristate.org/event/lenten-morning-of-reflection/
LOCATION:Saint Paul Church\, 84 Sherwood Ave\, Greenwich\, CT\, United States
CATEGORIES:mini retreats,Special Event
ATTACH;FMTTYPE=image/png:https://rcnytristate.org/wp-content/uploads/2025/08/2024-Professions-9.png
ORGANIZER;CN="Lisa Rooney":MAILTO:lisarooney76@gmail.com
END:VEVENT
BEGIN:VEVENT
DTSTART;VALUE=DATE:20260328
DTEND;VALUE=DATE:20260329
DTSTAMP:20260423T044515
CREATED:20260122T033059Z
LAST-MODIFIED:20260302T170458Z
UID:27705-1774656000-1774742399@rcnytristate.org
SUMMARY:Young Men's Retreat
DESCRIPTION:We want to invite you to our morning retreat at Old St. Patrick’s Cathedral. This retreat will include guided meditations\, adoration\, confessions\, lunch and more! \n  \nTo learn more or register\, please contact Fr. Jorge Obregón\, LC at jobregon@legionaries.org
URL:https://rcnytristate.org/event/young-mens-retreat/
LOCATION:St. Patrick’s Old Cathedral School\, 32 Prince Street\, New York City\, NY\, 10012\, United States
CATEGORIES:mini retreats,Young Adult
ATTACH;FMTTYPE=image/jpeg:https://rcnytristate.org/wp-content/uploads/2023/04/Renewed-Retreat-2.jpg
ORGANIZER;CN="Fr. Jorge Obregon":MAILTO:jobregon@legionaries.org
END:VEVENT
BEGIN:VEVENT
DTSTART;VALUE=DATE:20260404
DTEND;VALUE=DATE:20260405
DTSTAMP:20260423T044515
CREATED:20260122T033226Z
LAST-MODIFIED:20260328T005504Z
UID:27706-1775260800-1775347199@rcnytristate.org
SUMMARY:Young Adult Holy Week Mini Retreat & Missions - REGISTRATION CLOSED
DESCRIPTION:REGISTRATION FOR THIS EVENT IS NOW CLOSED. \nWe want to invite you to our morning retreat at Old St. Patrick’s Cathedral. This retreat will include guided meditations\, adoration\, confessions\, lunch and more! \nTo learn more\, please contact Fr. Jorge Obregón\, LC at jobregon@legionaries.org
URL:https://rcnytristate.org/event/young-adult-holy-week-mini-retreat-missions/
LOCATION:St. Patrick’s Old Cathedral School\, 32 Prince Street\, New York City\, NY\, 10012\, United States
CATEGORIES:mini retreats,Young Adult
ATTACH;FMTTYPE=image/png:https://rcnytristate.org/wp-content/uploads/2026/01/Nov5-AdventVideoMR-3.png
ORGANIZER;CN="Fr. Jorge Obregon":MAILTO:jobregon@legionaries.org
END:VEVENT
BEGIN:VEVENT
DTSTART;VALUE=DATE:20260509
DTEND;VALUE=DATE:20260510
DTSTAMP:20260423T044515
CREATED:20260122T033439Z
LAST-MODIFIED:20260302T170457Z
UID:27710-1778284800-1778371199@rcnytristate.org
SUMMARY:Young Adult Marian Retreat
DESCRIPTION:We want to invite you to our morning retreat at the LC Rye Community house. This retreat will include guided meditations\, adoration\, confessions\, lunch and more! \nPlease donate $15 to cover pizza and coffee @RCNewYork. \nTo learn more or register\, please contact Fr. Jorge Obregón\, LC at jobregon@legionaries.org
URL:https://rcnytristate.org/event/young-adult-marian-retreat/
LOCATION:LC Rye community house\, 815 Boston Post Road\, Rye\, NY\, 10580\, United States
CATEGORIES:mini retreats,Young Adult
ATTACH;FMTTYPE=image/jpeg:https://rcnytristate.org/wp-content/uploads/2021/07/Mary-w-Baby-Jesus_hero-v2.jpg
ORGANIZER;CN="Fr. Jorge Obregon":MAILTO:jobregon@legionaries.org
END:VEVENT
BEGIN:VEVENT
DTSTART;TZID=America/New_York:20260617T093000
DTEND;TZID=America/New_York:20260617T123000
DTSTAMP:20260423T044515
CREATED:20250819T022538Z
LAST-MODIFIED:20260302T170456Z
UID:26092-1781688600-1781699400@rcnytristate.org
SUMMARY:NJ Morning of Reflection for Regnum Christi Women
DESCRIPTION:This retreat is for Regnum Christi women only and includes Mass\, the opportunity for Confession\, a reflection for the mind and heart\, and time for fellowship. \nFee for Regnum Christi Members: $25 \nFee for guests: $10 \nREGISTER \n 
URL:https://rcnytristate.org/event/nj-morning-of-reflection-for-regnum-christi-women/
LOCATION:Shrine of St. Joseph\, 1050 LONG HILL ROAD\, Stirling\, 07980\, United States
CATEGORIES:mini retreats,RC member events,Retreats
ATTACH;FMTTYPE=image/png:https://rcnytristate.org/wp-content/uploads/2025/08/2024-Professions-8.png
ORGANIZER;CN="Sue Zavodny":MAILTO:zavodnys@comcast.net
END:VEVENT
BEGIN:VEVENT
DTSTART;VALUE=DATE:20260620
DTEND;VALUE=DATE:20260621
DTSTAMP:20260423T044515
CREATED:20260122T033851Z
LAST-MODIFIED:20260302T170456Z
UID:27713-1781913600-1781999999@rcnytristate.org
SUMMARY:Young Adult Formation & Discernment
DESCRIPTION:We want to invite you to our morning retreat.. This retreat will include guided meditations\, adoration\, confessions\, lunch and more! \nPlease donate $15 to cover pizza and coffee @RCNewYork. \nTo learn more or register\, please contact Fr. Jorge Obregón\, LC at jobregon@legionaries.org
URL:https://rcnytristate.org/event/young-adult-formation-discernment/
LOCATION:LC Rye community house\, 815 Boston Post Road\, Rye\, NY\, 10580\, United States
CATEGORIES:mini retreats,Young Adult
ATTACH;FMTTYPE=image/png:https://rcnytristate.org/wp-content/uploads/2026/01/Nov5-AdventVideoMR-2.png
ORGANIZER;CN="Fr. Jorge Obregon":MAILTO:jobregon@legionaries.org
END:VEVENT
BEGIN:VEVENT
DTSTART;VALUE=DATE:20260711
DTEND;VALUE=DATE:20260712
DTSTAMP:20260423T044515
CREATED:20260122T033937Z
LAST-MODIFIED:20260302T170456Z
UID:27714-1783728000-1783814399@rcnytristate.org
SUMMARY:Young Adult Retreat
DESCRIPTION:We want to invite you to our morning retreat. This retreat will include guided meditations\, adoration\, confessions\, lunch and more! \nPlease donate $15 to cover pizza and coffee @RCNewYork. \nTo learn more or register\, please contact Fr. Jorge Obregón\, LC at jobregon@legionaries.org
URL:https://rcnytristate.org/event/young-adult-retreat/
LOCATION:LC Rye community house\, 815 Boston Post Road\, Rye\, NY\, 10580\, United States
CATEGORIES:mini retreats,Young Adult
ATTACH;FMTTYPE=image/png:https://rcnytristate.org/wp-content/uploads/2025/01/Monthly-Retreats-Are-Back-6.png
ORGANIZER;CN="Fr. Jorge Obregon":MAILTO:jobregon@legionaries.org
END:VEVENT
END:VCALENDAR