BEGIN:VCALENDAR
VERSION:2.0
PRODID:-//RC NY Tri-State - ECPv6.15.20//NONSGML v1.0//EN
CALSCALE:GREGORIAN
METHOD:PUBLISH
X-ORIGINAL-URL:https://rcnytristate.org
X-WR-CALDESC:Events for RC NY Tri-State
REFRESH-INTERVAL;VALUE=DURATION:PT1H
X-Robots-Tag:noindex
X-PUBLISHED-TTL:PT1H
BEGIN:VTIMEZONE
TZID:America/New_York
BEGIN:DAYLIGHT
TZOFFSETFROM:-0500
TZOFFSETTO:-0400
TZNAME:EDT
DTSTART:20250309T070000
END:DAYLIGHT
BEGIN:STANDARD
TZOFFSETFROM:-0400
TZOFFSETTO:-0500
TZNAME:EST
DTSTART:20251102T060000
END:STANDARD
BEGIN:DAYLIGHT
TZOFFSETFROM:-0500
TZOFFSETTO:-0400
TZNAME:EDT
DTSTART:20260308T070000
END:DAYLIGHT
BEGIN:STANDARD
TZOFFSETFROM:-0400
TZOFFSETTO:-0500
TZNAME:EST
DTSTART:20261101T060000
END:STANDARD
BEGIN:DAYLIGHT
TZOFFSETFROM:-0500
TZOFFSETTO:-0400
TZNAME:EDT
DTSTART:20270314T070000
END:DAYLIGHT
BEGIN:STANDARD
TZOFFSETFROM:-0400
TZOFFSETTO:-0500
TZNAME:EST
DTSTART:20271107T060000
END:STANDARD
END:VTIMEZONE
BEGIN:VEVENT
DTSTART;TZID=America/New_York:20260617T093000
DTEND;TZID=America/New_York:20260617T123000
DTSTAMP:20260423T064120
CREATED:20250819T022538Z
LAST-MODIFIED:20260302T170456Z
UID:26092-1781688600-1781699400@rcnytristate.org
SUMMARY:NJ Morning of Reflection for Regnum Christi Women
DESCRIPTION:This retreat is for Regnum Christi women only and includes Mass\, the opportunity for Confession\, a reflection for the mind and heart\, and time for fellowship. \nFee for Regnum Christi Members: $25 \nFee for guests: $10 \nREGISTER \n 
URL:https://rcnytristate.org/event/nj-morning-of-reflection-for-regnum-christi-women/
LOCATION:Shrine of St. Joseph\, 1050 LONG HILL ROAD\, Stirling\, 07980\, United States
CATEGORIES:mini retreats,RC member events,Retreats
ATTACH;FMTTYPE=image/png:https://rcnytristate.org/wp-content/uploads/2025/08/2024-Professions-8.png
ORGANIZER;CN="Sue Zavodny":MAILTO:zavodnys@comcast.net
END:VEVENT
BEGIN:VEVENT
DTSTART;VALUE=DATE:20260620
DTEND;VALUE=DATE:20260621
DTSTAMP:20260423T064120
CREATED:20260122T033851Z
LAST-MODIFIED:20260302T170456Z
UID:27713-1781913600-1781999999@rcnytristate.org
SUMMARY:Young Adult Formation & Discernment
DESCRIPTION:We want to invite you to our morning retreat.. This retreat will include guided meditations\, adoration\, confessions\, lunch and more! \nPlease donate $15 to cover pizza and coffee @RCNewYork. \nTo learn more or register\, please contact Fr. Jorge Obregón\, LC at jobregon@legionaries.org
URL:https://rcnytristate.org/event/young-adult-formation-discernment/
LOCATION:LC Rye community house\, 815 Boston Post Road\, Rye\, NY\, 10580\, United States
CATEGORIES:mini retreats,Young Adult
ATTACH;FMTTYPE=image/png:https://rcnytristate.org/wp-content/uploads/2026/01/Nov5-AdventVideoMR-2.png
ORGANIZER;CN="Fr. Jorge Obregon":MAILTO:jobregon@legionaries.org
END:VEVENT
BEGIN:VEVENT
DTSTART;VALUE=DATE:20260711
DTEND;VALUE=DATE:20260712
DTSTAMP:20260423T064120
CREATED:20260122T033937Z
LAST-MODIFIED:20260302T170456Z
UID:27714-1783728000-1783814399@rcnytristate.org
SUMMARY:Young Adult Retreat
DESCRIPTION:We want to invite you to our morning retreat. This retreat will include guided meditations\, adoration\, confessions\, lunch and more! \nPlease donate $15 to cover pizza and coffee @RCNewYork. \nTo learn more or register\, please contact Fr. Jorge Obregón\, LC at jobregon@legionaries.org
URL:https://rcnytristate.org/event/young-adult-retreat/
LOCATION:LC Rye community house\, 815 Boston Post Road\, Rye\, NY\, 10580\, United States
CATEGORIES:mini retreats,Young Adult
ATTACH;FMTTYPE=image/png:https://rcnytristate.org/wp-content/uploads/2025/01/Monthly-Retreats-Are-Back-6.png
ORGANIZER;CN="Fr. Jorge Obregon":MAILTO:jobregon@legionaries.org
END:VEVENT
END:VCALENDAR