BEGIN:VCALENDAR
VERSION:2.0
PRODID:-//RC NY Tri-State - ECPv6.15.20//NONSGML v1.0//EN
CALSCALE:GREGORIAN
METHOD:PUBLISH
X-WR-CALNAME:RC NY Tri-State
X-ORIGINAL-URL:https://rcnytristate.org
X-WR-CALDESC:Events for RC NY Tri-State
REFRESH-INTERVAL;VALUE=DURATION:PT1H
X-Robots-Tag:noindex
X-PUBLISHED-TTL:PT1H
BEGIN:VTIMEZONE
TZID:America/New_York
BEGIN:DAYLIGHT
TZOFFSETFROM:-0500
TZOFFSETTO:-0400
TZNAME:EDT
DTSTART:20240310T070000
END:DAYLIGHT
BEGIN:STANDARD
TZOFFSETFROM:-0400
TZOFFSETTO:-0500
TZNAME:EST
DTSTART:20241103T060000
END:STANDARD
BEGIN:DAYLIGHT
TZOFFSETFROM:-0500
TZOFFSETTO:-0400
TZNAME:EDT
DTSTART:20250309T070000
END:DAYLIGHT
BEGIN:STANDARD
TZOFFSETFROM:-0400
TZOFFSETTO:-0500
TZNAME:EST
DTSTART:20251102T060000
END:STANDARD
BEGIN:DAYLIGHT
TZOFFSETFROM:-0500
TZOFFSETTO:-0400
TZNAME:EDT
DTSTART:20260308T070000
END:DAYLIGHT
BEGIN:STANDARD
TZOFFSETFROM:-0400
TZOFFSETTO:-0500
TZNAME:EST
DTSTART:20261101T060000
END:STANDARD
END:VTIMEZONE
BEGIN:VEVENT
DTSTART;TZID=America/New_York:20250912T160000
DTEND;TZID=America/New_York:20250912T210000
DTSTAMP:20260422T074202
CREATED:20240408T154832Z
LAST-MODIFIED:20250904T204252Z
UID:21366-1757692800-1757710800@rcnytristate.org
SUMMARY:2025 San Gennaro Mission
DESCRIPTION:Date: September 12th \nIn-Person Training: 3:00 pm at Mission HQ (132 Prince St.) \nMission Start Time: 4:00 pm \nPlace: St Patrick’s Old Cathedral\, 263 Mulberry St\, New York\, NY 10012 \nMass: 7:30 pm \nDinner/Wrap-Up: 8:00 pm at Mission HQ (132 Prince St.) \nVideo Training for those who pre-register:  A Zoom link will be sent to your email. \nREGISTER \nRead mission posts from last year
URL:https://rcnytristate.org/event/2024-san-gennaro-mission/
LOCATION:Saint Patrick’s Old Cathedral\, 263 Mulberry Street\, NY\, NY\, United States
CATEGORIES:nyc missions
ATTACH;FMTTYPE=image/jpeg:https://rcnytristate.org/wp-content/uploads/2023/04/nyc-mission-fc-e1682973149258.jpg
ORGANIZER;CN="Evelyn Auth":MAILTO:auth.em04@gmail.com
END:VEVENT
END:VCALENDAR