BEGIN:VCALENDAR
VERSION:2.0
PRODID:-//RC NY Tri-State - ECPv6.15.20//NONSGML v1.0//EN
CALSCALE:GREGORIAN
METHOD:PUBLISH
X-WR-CALNAME:RC NY Tri-State
X-ORIGINAL-URL:https://rcnytristate.org
X-WR-CALDESC:Events for RC NY Tri-State
REFRESH-INTERVAL;VALUE=DURATION:PT1H
X-Robots-Tag:noindex
X-PUBLISHED-TTL:PT1H
BEGIN:VTIMEZONE
TZID:America/New_York
BEGIN:DAYLIGHT
TZOFFSETFROM:-0500
TZOFFSETTO:-0400
TZNAME:EDT
DTSTART:20240310T070000
END:DAYLIGHT
BEGIN:STANDARD
TZOFFSETFROM:-0400
TZOFFSETTO:-0500
TZNAME:EST
DTSTART:20241103T060000
END:STANDARD
BEGIN:DAYLIGHT
TZOFFSETFROM:-0500
TZOFFSETTO:-0400
TZNAME:EDT
DTSTART:20250309T070000
END:DAYLIGHT
BEGIN:STANDARD
TZOFFSETFROM:-0400
TZOFFSETTO:-0500
TZNAME:EST
DTSTART:20251102T060000
END:STANDARD
BEGIN:DAYLIGHT
TZOFFSETFROM:-0500
TZOFFSETTO:-0400
TZNAME:EDT
DTSTART:20260308T070000
END:DAYLIGHT
BEGIN:STANDARD
TZOFFSETFROM:-0400
TZOFFSETTO:-0500
TZNAME:EST
DTSTART:20261101T060000
END:STANDARD
END:VTIMEZONE
BEGIN:VEVENT
DTSTART;TZID=America/New_York:20250616T093000
DTEND;TZID=America/New_York:20250616T190000
DTSTAMP:20260422T131836
CREATED:20250228T234522Z
LAST-MODIFIED:20250615T165609Z
UID:24058-1750066200-1750100400@rcnytristate.org
SUMMARY:17th Annual Swing Fore Seminarians
DESCRIPTION:Join our priests\, seminarians\, family\, and friends on the links for a fantastic day of scramble-format golf. With proceeds benefitting the seminarians studying for the priesthood at the Legionaries of Christ Novitiate & College of Humanities\, you will be supporting the formation of our future Legionary priests…and having a great time doing it! The entrance fee includes a registration gift\, 18 holes of golf with a cart\, lunch at the turn\, and a wonderful buffet-style dinner. Great auction items and on-the-course contest prizes are also available. \nFor more information: Candy Nesbit (203) 915-6384 or cnesbit@legionofchrist.org \nREGISTER
URL:https://rcnytristate.org/event/17th-annual-swing-fore-seminarians/
LOCATION:Southington Country Club\, 150 Savage St\, Plantsville\, CT\, 06479\, United States
CATEGORIES:Fundraiser,Special Event,special events
ATTACH;FMTTYPE=image/jpeg:https://rcnytristate.org/wp-content/uploads/2025/02/Swing-for-Seminarians-cND2eJ.tmp_.jpg
ORGANIZER;CN="Candy Nesbit":MAILTO:contact@lccheshire.org
END:VEVENT
BEGIN:VEVENT
DTSTART;TZID=America/New_York:20250621T160000
DTEND;TZID=America/New_York:20250621T190000
DTSTAMP:20260422T131836
CREATED:20240726T163526Z
LAST-MODIFIED:20250611T024921Z
UID:22355-1750521600-1750532400@rcnytristate.org
SUMMARY:CANCELED: Mass and Barbecue (Rain or Shine!)
DESCRIPTION:THIS EVENT HAS BEEN CANCELED. \nReunite with your local Regnum Christi family to kick off the summer with a Mass followed by a barbecue and fellowship! We will hold this event rain or shine!
URL:https://rcnytristate.org/event/mass-and-barbecue-rain-or-shine-copy/
LOCATION:LC Rye community house\, 815 Boston Post Road\, Rye\, NY\, 10580\, United States
CATEGORIES:special events
ATTACH;FMTTYPE=image/jpeg:https://rcnytristate.org/wp-content/uploads/2024/07/June-BBQ-Mass-2.jpg
ORGANIZER;CN="Lisa Rooney":MAILTO:lisarooney76@gmail.com
END:VEVENT
BEGIN:VEVENT
DTSTART;TZID=America/New_York:20250626T190000
DTEND;TZID=America/New_York:20250626T210000
DTSTAMP:20260422T131836
CREATED:20240726T143252Z
LAST-MODIFIED:20240726T143252Z
UID:22388-1750964400-1750971600@rcnytristate.org
SUMMARY:Come Worship the King!
DESCRIPTION:Join us for a unique and powerful evening of praise\, worship\, live music\, and fellowship as we gather at the house of the Legionaries of Christ in Rye. This outdoor event is for the whole family! Feel free to invite friends as well. There will be a food truck on site providing American cuisine for purchase before the Adoration hour. \nOutdoor Event \nFood and LIVE Worship Music \nConfession will be offered. Let us adore HIM as a Regnum Christi Family! \nADORATION WITH LIVE MUSIC: 7:00-9:00 \n815 Boston Post Rd\, Rye\, NY
URL:https://rcnytristate.org/event/come-worship-the-king-7/
LOCATION:LC Rye community house\, 815 Boston Post Road\, Rye\, NY\, 10580\, United States
CATEGORIES:special events
ATTACH;FMTTYPE=image/jpeg:https://rcnytristate.org/wp-content/uploads/2024/07/WhatsApp-Image-2023-11-19-at-12.08.31-PM.jpeg
ORGANIZER;CN="Melissa Gordon":MAILTO:mgordon@legionofchrist.org
END:VEVENT
END:VCALENDAR