BEGIN:VCALENDAR
VERSION:2.0
PRODID:-//RC NY Tri-State - ECPv6.15.20//NONSGML v1.0//EN
CALSCALE:GREGORIAN
METHOD:PUBLISH
X-WR-CALNAME:RC NY Tri-State
X-ORIGINAL-URL:https://rcnytristate.org
X-WR-CALDESC:Events for RC NY Tri-State
REFRESH-INTERVAL;VALUE=DURATION:PT1H
X-Robots-Tag:noindex
X-PUBLISHED-TTL:PT1H
BEGIN:VTIMEZONE
TZID:America/New_York
BEGIN:DAYLIGHT
TZOFFSETFROM:-0500
TZOFFSETTO:-0400
TZNAME:EDT
DTSTART:20220313T070000
END:DAYLIGHT
BEGIN:STANDARD
TZOFFSETFROM:-0400
TZOFFSETTO:-0500
TZNAME:EST
DTSTART:20221106T060000
END:STANDARD
BEGIN:DAYLIGHT
TZOFFSETFROM:-0500
TZOFFSETTO:-0400
TZNAME:EDT
DTSTART:20230312T070000
END:DAYLIGHT
BEGIN:STANDARD
TZOFFSETFROM:-0400
TZOFFSETTO:-0500
TZNAME:EST
DTSTART:20231105T060000
END:STANDARD
BEGIN:DAYLIGHT
TZOFFSETFROM:-0500
TZOFFSETTO:-0400
TZNAME:EDT
DTSTART:20240310T070000
END:DAYLIGHT
BEGIN:STANDARD
TZOFFSETFROM:-0400
TZOFFSETTO:-0500
TZNAME:EST
DTSTART:20241103T060000
END:STANDARD
END:VTIMEZONE
BEGIN:VEVENT
DTSTART;TZID=America/New_York:20231102T193000
DTEND;TZID=America/New_York:20231102T204500
DTSTAMP:20260423T030443
CREATED:20230712T191525Z
LAST-MODIFIED:20230808T151430Z
UID:16925-1698953400-1698957900@rcnytristate.org
SUMMARY:Marriage Evening
DESCRIPTION:Join other couples in the church for a talk and meditation by Fr. Daniel Ray\, L.C. on “The Grace of State of Marriage.” Following the talk\, there will be time for you and your spouse to pray and share your thoughts. At the end\, there will be fellowship with the other couples. \n  \nREGISTER
URL:https://rcnytristate.org/event/marriage-evening-3/
LOCATION:Church of the Resurrection\, 910 Boston Post Rd\, Rye\, NY\, 10580\, United States
CATEGORIES:marriage renewal
ATTACH;FMTTYPE=image/jpeg:https://rcnytristate.org/wp-content/uploads/2023/04/marriage-renewal-fc-e1682973190773.jpg
ORGANIZER;CN="Lisa Leonard":MAILTO:sixleonards@aol.com
END:VEVENT
BEGIN:VEVENT
DTSTART;TZID=America/New_York:20231028T091500
DTEND;TZID=America/New_York:20231028T123000
DTSTAMP:20260423T030443
CREATED:20230713T175914Z
LAST-MODIFIED:20230801T012736Z
UID:16970-1698484500-1698496200@rcnytristate.org
SUMMARY:Men's Morning of Reflection
DESCRIPTION:The morning will begin with light refreshments and a talk followed by Exposition\, Meditation\, and Mass. \n\n\n\n\nDay\n\n\nSaturday mornings; schedule below\n\n\n\nTime\n\n\n9:15 am arrival\, 9:30 am – 12:30 pm retreat\n\n\n\nLocation\n\n\nLegionary of Christ Community House\n\n\n\n\n\n\n815 Boston Post Road\, Rye\, NY 10580\n\n\n\nCost\n\n\n$25 per person\n\n\n\n\n\n\n\n\n  \nREGISTER
URL:https://rcnytristate.org/event/mens-morning-of-reflection-2023-10-28/
LOCATION:LC Rye community house\, 815 Boston Post Road\, Rye\, NY\, 10580\, United States
CATEGORIES:mini retreats
ATTACH;FMTTYPE=image/png:https://rcnytristate.org/wp-content/uploads/2023/05/mmor.png
ORGANIZER;CN="Mary Therrell":MAILTO:events@rcnytristate.org
END:VEVENT
BEGIN:VEVENT
DTSTART;TZID=America/New_York:20231026T183000
DTEND;TZID=America/New_York:20231026T203000
DTSTAMP:20260423T030443
CREATED:20230925T185941Z
LAST-MODIFIED:20231004T173609Z
UID:17317-1698345000-1698352200@rcnytristate.org
SUMMARY:Come Worship the King!
DESCRIPTION:An Adoration Event for the Intentions of Our Children and Their Faith \nOutdoor Event \nFood and LIVE Worship Music \nJoin us for a unique and powerful evening of praise\, worship\, live music\, and fellowship as we gather at the house of the Legionaries of Christ in Rye. This outdoor event is for the whole family! Feel free to invite friends as well. There will be a food truck on site providing American cuisine for purchase before the Adoration hour. \nConfession will be offered. Let us adore HIM as a Regnum Christi Family! \nFOOD TRUCK: 6:30-7:30 \nADORATION WITH LIVE MUSIC: 7:30-8:30 \n815 Boston Post Rd\, Rye\, NY
URL:https://rcnytristate.org/event/worship-the-king-regnum-christi-adoration-event/
LOCATION:LC Rye community house\, 815 Boston Post Road\, Rye\, NY\, 10580\, United States
CATEGORIES:special events
ATTACH;FMTTYPE=image/jpeg:https://rcnytristate.org/wp-content/uploads/2023/09/Adoration-events-image.jpg
ORGANIZER;CN="Melissa Gordon":MAILTO:mgordon@legionofchrist.org
END:VEVENT
BEGIN:VEVENT
DTSTART;TZID=America/New_York:20231021T091500
DTEND;TZID=America/New_York:20231021T123000
DTSTAMP:20260423T030443
CREATED:20230327T213127Z
LAST-MODIFIED:20230801T013638Z
UID:16235-1697879700-1697891400@rcnytristate.org
SUMMARY:Rye Morning of Reflection for Women
DESCRIPTION:The morning will begin with light refreshments and a talk followed by Exposition\, Meditation\, and Mass. \n  \nREGISTER
URL:https://rcnytristate.org/event/rye-wmor-2023-10-21/
LOCATION:LC Rye community house\, 815 Boston Post Road\, Rye\, NY\, 10580\, United States
CATEGORIES:mini retreats
ATTACH;FMTTYPE=image/jpeg:https://rcnytristate.org/wp-content/uploads/2023/03/sacrament-fc-e1682973248459.jpg
ORGANIZER;CN="Valerie Anastasio":MAILTO:valerieanastasio@me.com
END:VEVENT
BEGIN:VEVENT
DTSTART;TZID=America/New_York:20231018T093000
DTEND;TZID=America/New_York:20231018T123000
DTSTAMP:20260423T030443
CREATED:20230327T215828Z
LAST-MODIFIED:20231013T194450Z
UID:16250-1697621400-1697632200@rcnytristate.org
SUMMARY:NJ Morning of Reflection for Women
DESCRIPTION:Join us for our monthly mini retreat. \nEach retreat includes Mass\, the opportunity for Confession\, a reflection for the mind and heart\, and time for fellowship. \nFee for Regnum Christi Members: $25 \nFee for guests: $10 \nFor more information and to register contact Susan Zavodny at zavodnys@comcast.net.
URL:https://rcnytristate.org/event/morning-of-reflection-for-women-4/
LOCATION:Saint Patrick parish offices\, 41 Oliver St.\, Chatham\, NJ\, 07928\, United States
CATEGORIES:mini retreats
ATTACH;FMTTYPE=image/png:https://rcnytristate.org/wp-content/uploads/2023/03/5.png
ORGANIZER;CN="Sue Zavodny":MAILTO:zavodnys@comcast.net
END:VEVENT
BEGIN:VEVENT
DTSTART;TZID=America/New_York:20231005T193000
DTEND;TZID=America/New_York:20231005T204500
DTSTAMP:20260423T030443
CREATED:20230712T191158Z
LAST-MODIFIED:20230808T151017Z
UID:16922-1696534200-1696538700@rcnytristate.org
SUMMARY:Marriage Evening
DESCRIPTION:Join other couples in the church for a talk and meditation by Fr. Mark Haydu\, L.C. on “Marriage in the Beginning: God’s Plan for Marriage.” Following the talk\, there will be time for you and your spouse to pray and share your thoughts. At the end\, there will be fellowship with the other couples. \n  \nREGISTER
URL:https://rcnytristate.org/event/marriage-evening-2/
LOCATION:Church of the Resurrection\, 910 Boston Post Rd\, Rye\, NY\, 10580\, United States
CATEGORIES:marriage renewal
ATTACH;FMTTYPE=image/jpeg:https://rcnytristate.org/wp-content/uploads/2023/04/marriage-renewal-fc-e1682973190773.jpg
ORGANIZER;CN="Lisa Leonard":MAILTO:sixleonards@aol.com
END:VEVENT
BEGIN:VEVENT
DTSTART;TZID=America/New_York:20230929T173000
DTEND;TZID=America/New_York:20231001T143000
DTSTAMP:20260423T030443
CREATED:20230330T211023Z
LAST-MODIFIED:20230823T171715Z
UID:16272-1696008600-1696170600@rcnytristate.org
SUMMARY:Renewed
DESCRIPTION:Start thriving and live the life God has planned for you. \nThis retreat is a time for you to discover what keeps you from thriving as you should. There will be: \n\nPresentation by a priest and a psychologist.\nTestimonies by guest speakers\nOpportunity for confession\nTime for private reflection\nWorkshops given by Fr Jorge and Valerie Vincent LMFT\nTime to speak to a spiritual director\n\n  \nREGISTER \n\n 
URL:https://rcnytristate.org/event/renewed/
LOCATION:Mariapolis Luminosa\, 200 Cardinal Rd\, Hyde Park\, New York
CATEGORIES:healing retreats,weekend retreats
ATTACH;FMTTYPE=image/jpeg:https://rcnytristate.org/wp-content/uploads/2023/04/Renewed-Retreat-2.jpg
ORGANIZER;CN="Carolina Cordova":MAILTO:mccordova@gmail.com
END:VEVENT
BEGIN:VEVENT
DTSTART;TZID=America/New_York:20230923T083000
DTEND;TZID=America/New_York:20230923T183000
DTSTAMP:20260423T030443
CREATED:20230330T213037Z
LAST-MODIFIED:20230731T172100Z
UID:16278-1695457800-1695493800@rcnytristate.org
SUMMARY:Three to Get Married - 1 day program
DESCRIPTION:For over 40 years\, we have prepared couples for the sacrament of marriage. Our Three to Get Married Marriage Preparation Program draws upon the best in contemporary psychology\, practical wisdom from experienced married couples\, and the beauty of the Catholic Church’s teachings on marriage and family life to provide couples with the best foundation on which to build a successful marriage. Our program aims to provide each couple with a reflective and in-depth preparation for a joyful\, faith-filled marriage—based on love that not only endures but actually grows stronger year after year. \nOur Three to Get Married course satisfies the Pre-Cana requirement for those in the Archdiocese of New York\, the Diocese of Bridgeport\, and others by pastoral permission. It is suggested that you register at least 6 months before your wedding. Overnight accommodation is not included. \n\nREGISTER
URL:https://rcnytristate.org/event/three-to-get-married/
LOCATION:LC Rye community house\, 815 Boston Post Road\, Rye\, NY\, 10580\, United States
CATEGORIES:marriage preparation
ATTACH;FMTTYPE=image/png:https://rcnytristate.org/wp-content/uploads/2023/03/3tgm-fc-v2.png
ORGANIZER;CN="Laura Esposito":MAILTO:EspositoLauraMary@gmail.com
END:VEVENT
BEGIN:VEVENT
DTSTART;TZID=America/New_York:20230916T160000
DTEND;TZID=America/New_York:20230916T190000
DTSTAMP:20260423T030443
CREATED:20230330T215359Z
LAST-MODIFIED:20230713T162739Z
UID:16293-1694880000-1694890800@rcnytristate.org
SUMMARY:Opening Mass & Fellowship
DESCRIPTION:Reunite with your local Regnum Christi family to kick off the new year of events with an Opening Mass followed by a light dinner and fellowship! \n  \nREGISTER
URL:https://rcnytristate.org/event/opening-mass-fellowship/
LOCATION:LC Rye community house\, 815 Boston Post Road\, Rye\, NY\, 10580\, United States
CATEGORIES:special events
ATTACH;FMTTYPE=image/png:https://rcnytristate.org/wp-content/uploads/2023/03/opening-Mass_fc.png
ORGANIZER;CN="Lisa Leonard":MAILTO:sixleonards@aol.com
END:VEVENT
BEGIN:VEVENT
DTSTART;VALUE=DATE:20230901
DTEND;VALUE=DATE:20230904
DTSTAMP:20260423T030443
CREATED:20230501T211022Z
LAST-MODIFIED:20230824T192924Z
UID:16601-1693526400-1693785599@rcnytristate.org
SUMMARY:RC Friends & Family Weekend
DESCRIPTION:Friday and Saturday events will be held at the Legionaries of Christ Novitiate & College of Humanities\, 475 Oak Ave\, Cheshire\, CT \nFriday:\n4:00 pm Mass Fr. Shawn Aaron\, LC \n5:00 pm 40 Hours of Adoration for Vocations begins \n6:30 pm Cookout on the grounds \nSaturday:\n11:00 am Mass Newly ordained Fr. Markus Stehmer\, LC\n12:30 pm BBQ\, cornhole\, and disc golf with the brothers \nGuest Speakers\n3:00 pm Fr. Shawn Aaron\, LC\n4:00 pm Fr. John Bartunek\, LC \n5:00 pm LC Jeopardy Game Show – the Legionaries over the years \nSunday:\n11:00 am 40th Anniversary Mass with Archbishop Leonard Blair at St Thomas Becket Church\, 435 N Brooksvale Rd\, Cheshire\, CT \nRegister for the weekend \nSign up for an Hour of Adoration \nEvent Schedule
URL:https://rcnytristate.org/event/rc-friends-family-weekend/
LOCATION:Legionaries of Christ Novitiate and College of Humanities\, 475 Oak Avenue\, Cheshire\, CT\, 06410\, United States
CATEGORIES:special events
ATTACH;FMTTYPE=image/png:https://rcnytristate.org/wp-content/uploads/2023/05/40th-16x9-1.png
ORGANIZER;CN="Candy Nesbit":MAILTO:contact@lccheshire.org
END:VEVENT
BEGIN:VEVENT
DTSTART;TZID=America/New_York:20230812T103000
DTEND;TZID=America/New_York:20230812T140000
DTSTAMP:20260423T030443
CREATED:20230327T203227Z
LAST-MODIFIED:20230504T194701Z
UID:16204-1691836200-1691848800@rcnytristate.org
SUMMARY:Professions Mass and Ceremony
DESCRIPTION:Come experience the joy when our novices make their first vows of poverty\, chastity\, and obedience as they follow Christ’s call \n10:30 Mass; Picnic immediately following on the seminary grounds. \n  \nRSVP
URL:https://rcnytristate.org/event/professions-mass-and-ceremony/
LOCATION:Legionaries of Christ Novitiate and College of Humanities\, 475 Oak Avenue\, Cheshire\, CT\, 06410\, United States
CATEGORIES:RC member events,special events
ATTACH;FMTTYPE=image/jpeg:https://rcnytristate.org/wp-content/uploads/2023/03/professions_fc.jpg
ORGANIZER;CN="Candy Nesbit":MAILTO:contact@lccheshire.org
END:VEVENT
BEGIN:VEVENT
DTSTART;TZID=America/New_York:20230624T160000
DTEND;TZID=America/New_York:20230624T190000
DTSTAMP:20260423T030443
CREATED:20230502T002739Z
LAST-MODIFIED:20230623T213159Z
UID:16608-1687622400-1687633200@rcnytristate.org
SUMMARY:End-of-Year BBQ
DESCRIPTION:Come celebrate a year filled with blessings! Join your local Regnum Christi Family for Mass at 4:00 p.m. followed by a barbecue. \n\nRegistration is closed
URL:https://rcnytristate.org/event/end-of-year-bbq/
LOCATION:LC Rye community house\, 815 Boston Post Road\, Rye\, NY\, 10580\, United States
CATEGORIES:special events
ATTACH;FMTTYPE=image/png:https://rcnytristate.org/wp-content/uploads/2023/03/opening-Mass-fc.png
ORGANIZER;CN="Mary Therrell":MAILTO:events@rcnytristate.org
END:VEVENT
BEGIN:VEVENT
DTSTART;TZID=America/New_York:20230527T091500
DTEND;TZID=America/New_York:20230527T123000
DTSTAMP:20260423T030443
CREATED:20230510T151644Z
LAST-MODIFIED:20230510T151811Z
UID:16700-1685178900-1685190600@rcnytristate.org
SUMMARY:Men's Morning of Reflection
DESCRIPTION:The morning will begin with light refreshments and a talk followed by Exposition\, Meditation\, and Mass. \n\n\n\n\nDate\n\n\nSaturday\, May 27th\n\n\nTime\n\n8:45 am arrival\, 9 am – 11:45 am retreat\n\n\n\nLocation\n\n\nLegionary of Christ Community House\n\n\n\n\n\n\n815 Boston Post Road\, Rye\, NY 10580\n\n\n\nCost\n\n\n$25 per person\n\n\n\nContact\n\n\nevents@rcnytristate.org\n\n\n\nREGISTER
URL:https://rcnytristate.org/event/mens-morning-of-reflection-2/
LOCATION:LC Rye community house\, 815 Boston Post Road\, Rye\, NY\, 10580\, United States
CATEGORIES:mini retreats
ATTACH;FMTTYPE=image/png:https://rcnytristate.org/wp-content/uploads/2023/05/mmor.png
ORGANIZER;CN="Mary Therrell":MAILTO:events@rcnytristate.org
END:VEVENT
BEGIN:VEVENT
DTSTART;TZID=America/New_York:20230513T093000
DTEND;TZID=America/New_York:20230513T123000
DTSTAMP:20260423T030443
CREATED:20230327T205615Z
LAST-MODIFIED:20230430T211657Z
UID:16221-1683970200-1683981000@rcnytristate.org
SUMMARY:Rye Morning of Reflection for Women
DESCRIPTION:In this series of mornings of reflection for women\, the Legionary fathers will focus on the seven longings of the human heart. These are the things that each one of us is looking for whenever we do anything virtuous and even when we sin. These desires are pathways that lead us to God or away from God. \nThe morning will begin with light refreshments and a talk followed by Exposition\, Meditation\, and Mass. \n  \nREGISTER
URL:https://rcnytristate.org/event/morning-of-reflection/
LOCATION:LC Rye community house\, 815 Boston Post Road\, Rye\, NY\, 10580\, United States
CATEGORIES:mini retreats
ATTACH;FMTTYPE=image/jpeg:https://rcnytristate.org/wp-content/uploads/2023/03/w-church_fc-e1682973273310.jpg
ORGANIZER;CN="Valerie Anastasio":MAILTO:valerieanastasio@me.com
END:VEVENT
BEGIN:VEVENT
DTSTART;TZID=America/New_York:20230505T190000
DTEND;TZID=America/New_York:20230507T190000
DTSTAMP:20260423T030443
CREATED:20230502T162531Z
LAST-MODIFIED:20230505T200229Z
UID:16623-1683313200-1683486000@rcnytristate.org
SUMMARY:Spiritual Exercises for Young Adults
DESCRIPTION:With so much going on in your life\, why not stop and take time for yourself and to find God in a new\, more profound way? Come and experience the power of Ignatian Spiritual Exercises! \nGuided meditations\, Confession\, Adoration\, Silence\, and Mass will be offered. \nClick on the link to read the 2023-2024 Cancellation Policy before registering. \nMEN REGISTER HERE \nWOMEN REGISTER HERE
URL:https://rcnytristate.org/event/spiritual-exercises-for-young-adults/
LOCATION:Mariapolis Luminosa\, 200 Cardinal Rd\, Hyde Park\, New York
CATEGORIES:weekend retreats
ATTACH;FMTTYPE=image/jpeg:https://rcnytristate.org/wp-content/uploads/2023/03/YA-fc-e1682973220846.jpg
ORGANIZER;CN="Mary Therrell":MAILTO:events@rcnytristate.org
END:VEVENT
END:VCALENDAR