BEGIN:VCALENDAR
VERSION:2.0
PRODID:-//RC NY Tri-State - ECPv6.15.20//NONSGML v1.0//EN
CALSCALE:GREGORIAN
METHOD:PUBLISH
X-WR-CALNAME:RC NY Tri-State
X-ORIGINAL-URL:https://rcnytristate.org
X-WR-CALDESC:Events for RC NY Tri-State
REFRESH-INTERVAL;VALUE=DURATION:PT1H
X-Robots-Tag:noindex
X-PUBLISHED-TTL:PT1H
BEGIN:VTIMEZONE
TZID:America/New_York
BEGIN:DAYLIGHT
TZOFFSETFROM:-0500
TZOFFSETTO:-0400
TZNAME:EDT
DTSTART:20220313T070000
END:DAYLIGHT
BEGIN:STANDARD
TZOFFSETFROM:-0400
TZOFFSETTO:-0500
TZNAME:EST
DTSTART:20221106T060000
END:STANDARD
BEGIN:DAYLIGHT
TZOFFSETFROM:-0500
TZOFFSETTO:-0400
TZNAME:EDT
DTSTART:20230312T070000
END:DAYLIGHT
BEGIN:STANDARD
TZOFFSETFROM:-0400
TZOFFSETTO:-0500
TZNAME:EST
DTSTART:20231105T060000
END:STANDARD
BEGIN:DAYLIGHT
TZOFFSETFROM:-0500
TZOFFSETTO:-0400
TZNAME:EDT
DTSTART:20240310T070000
END:DAYLIGHT
BEGIN:STANDARD
TZOFFSETFROM:-0400
TZOFFSETTO:-0500
TZNAME:EST
DTSTART:20241103T060000
END:STANDARD
END:VTIMEZONE
BEGIN:VEVENT
DTSTART;TZID=America/New_York:20230916T160000
DTEND;TZID=America/New_York:20230916T190000
DTSTAMP:20260422T234550
CREATED:20230330T215359Z
LAST-MODIFIED:20230713T162739Z
UID:16293-1694880000-1694890800@rcnytristate.org
SUMMARY:Opening Mass & Fellowship
DESCRIPTION:Reunite with your local Regnum Christi family to kick off the new year of events with an Opening Mass followed by a light dinner and fellowship! \n  \nREGISTER
URL:https://rcnytristate.org/event/opening-mass-fellowship/
LOCATION:LC Rye community house\, 815 Boston Post Road\, Rye\, NY\, 10580\, United States
CATEGORIES:special events
ATTACH;FMTTYPE=image/png:https://rcnytristate.org/wp-content/uploads/2023/03/opening-Mass_fc.png
ORGANIZER;CN="Lisa Leonard":MAILTO:sixleonards@aol.com
END:VEVENT
BEGIN:VEVENT
DTSTART;VALUE=DATE:20230901
DTEND;VALUE=DATE:20230904
DTSTAMP:20260422T234550
CREATED:20230501T211022Z
LAST-MODIFIED:20230824T192924Z
UID:16601-1693526400-1693785599@rcnytristate.org
SUMMARY:RC Friends & Family Weekend
DESCRIPTION:Friday and Saturday events will be held at the Legionaries of Christ Novitiate & College of Humanities\, 475 Oak Ave\, Cheshire\, CT \nFriday:\n4:00 pm Mass Fr. Shawn Aaron\, LC \n5:00 pm 40 Hours of Adoration for Vocations begins \n6:30 pm Cookout on the grounds \nSaturday:\n11:00 am Mass Newly ordained Fr. Markus Stehmer\, LC\n12:30 pm BBQ\, cornhole\, and disc golf with the brothers \nGuest Speakers\n3:00 pm Fr. Shawn Aaron\, LC\n4:00 pm Fr. John Bartunek\, LC \n5:00 pm LC Jeopardy Game Show – the Legionaries over the years \nSunday:\n11:00 am 40th Anniversary Mass with Archbishop Leonard Blair at St Thomas Becket Church\, 435 N Brooksvale Rd\, Cheshire\, CT \nRegister for the weekend \nSign up for an Hour of Adoration \nEvent Schedule
URL:https://rcnytristate.org/event/rc-friends-family-weekend/
LOCATION:Legionaries of Christ Novitiate and College of Humanities\, 475 Oak Avenue\, Cheshire\, CT\, 06410\, United States
CATEGORIES:special events
ATTACH;FMTTYPE=image/png:https://rcnytristate.org/wp-content/uploads/2023/05/40th-16x9-1.png
ORGANIZER;CN="Candy Nesbit":MAILTO:contact@lccheshire.org
END:VEVENT
BEGIN:VEVENT
DTSTART;TZID=America/New_York:20230812T103000
DTEND;TZID=America/New_York:20230812T140000
DTSTAMP:20260422T234550
CREATED:20230327T203227Z
LAST-MODIFIED:20230504T194701Z
UID:16204-1691836200-1691848800@rcnytristate.org
SUMMARY:Professions Mass and Ceremony
DESCRIPTION:Come experience the joy when our novices make their first vows of poverty\, chastity\, and obedience as they follow Christ’s call \n10:30 Mass; Picnic immediately following on the seminary grounds. \n  \nRSVP
URL:https://rcnytristate.org/event/professions-mass-and-ceremony/
LOCATION:Legionaries of Christ Novitiate and College of Humanities\, 475 Oak Avenue\, Cheshire\, CT\, 06410\, United States
CATEGORIES:RC member events,special events
ATTACH;FMTTYPE=image/jpeg:https://rcnytristate.org/wp-content/uploads/2023/03/professions_fc.jpg
ORGANIZER;CN="Candy Nesbit":MAILTO:contact@lccheshire.org
END:VEVENT
BEGIN:VEVENT
DTSTART;TZID=America/New_York:20230624T160000
DTEND;TZID=America/New_York:20230624T190000
DTSTAMP:20260422T234550
CREATED:20230502T002739Z
LAST-MODIFIED:20230623T213159Z
UID:16608-1687622400-1687633200@rcnytristate.org
SUMMARY:End-of-Year BBQ
DESCRIPTION:Come celebrate a year filled with blessings! Join your local Regnum Christi Family for Mass at 4:00 p.m. followed by a barbecue. \n\nRegistration is closed
URL:https://rcnytristate.org/event/end-of-year-bbq/
LOCATION:LC Rye community house\, 815 Boston Post Road\, Rye\, NY\, 10580\, United States
CATEGORIES:special events
ATTACH;FMTTYPE=image/png:https://rcnytristate.org/wp-content/uploads/2023/03/opening-Mass-fc.png
ORGANIZER;CN="Mary Therrell":MAILTO:events@rcnytristate.org
END:VEVENT
BEGIN:VEVENT
DTSTART;TZID=America/New_York:20230527T091500
DTEND;TZID=America/New_York:20230527T123000
DTSTAMP:20260422T234550
CREATED:20230510T151644Z
LAST-MODIFIED:20230510T151811Z
UID:16700-1685178900-1685190600@rcnytristate.org
SUMMARY:Men's Morning of Reflection
DESCRIPTION:The morning will begin with light refreshments and a talk followed by Exposition\, Meditation\, and Mass. \n\n\n\n\nDate\n\n\nSaturday\, May 27th\n\n\nTime\n\n8:45 am arrival\, 9 am – 11:45 am retreat\n\n\n\nLocation\n\n\nLegionary of Christ Community House\n\n\n\n\n\n\n815 Boston Post Road\, Rye\, NY 10580\n\n\n\nCost\n\n\n$25 per person\n\n\n\nContact\n\n\nevents@rcnytristate.org\n\n\n\nREGISTER
URL:https://rcnytristate.org/event/mens-morning-of-reflection-2/
LOCATION:LC Rye community house\, 815 Boston Post Road\, Rye\, NY\, 10580\, United States
CATEGORIES:mini retreats
ATTACH;FMTTYPE=image/png:https://rcnytristate.org/wp-content/uploads/2023/05/mmor.png
ORGANIZER;CN="Mary Therrell":MAILTO:events@rcnytristate.org
END:VEVENT
BEGIN:VEVENT
DTSTART;TZID=America/New_York:20230513T093000
DTEND;TZID=America/New_York:20230513T123000
DTSTAMP:20260422T234550
CREATED:20230327T205615Z
LAST-MODIFIED:20230430T211657Z
UID:16221-1683970200-1683981000@rcnytristate.org
SUMMARY:Rye Morning of Reflection for Women
DESCRIPTION:In this series of mornings of reflection for women\, the Legionary fathers will focus on the seven longings of the human heart. These are the things that each one of us is looking for whenever we do anything virtuous and even when we sin. These desires are pathways that lead us to God or away from God. \nThe morning will begin with light refreshments and a talk followed by Exposition\, Meditation\, and Mass. \n  \nREGISTER
URL:https://rcnytristate.org/event/morning-of-reflection/
LOCATION:LC Rye community house\, 815 Boston Post Road\, Rye\, NY\, 10580\, United States
CATEGORIES:mini retreats
ATTACH;FMTTYPE=image/jpeg:https://rcnytristate.org/wp-content/uploads/2023/03/w-church_fc-e1682973273310.jpg
ORGANIZER;CN="Valerie Anastasio":MAILTO:valerieanastasio@me.com
END:VEVENT
BEGIN:VEVENT
DTSTART;TZID=America/New_York:20230505T190000
DTEND;TZID=America/New_York:20230507T190000
DTSTAMP:20260422T234550
CREATED:20230502T162531Z
LAST-MODIFIED:20230505T200229Z
UID:16623-1683313200-1683486000@rcnytristate.org
SUMMARY:Spiritual Exercises for Young Adults
DESCRIPTION:With so much going on in your life\, why not stop and take time for yourself and to find God in a new\, more profound way? Come and experience the power of Ignatian Spiritual Exercises! \nGuided meditations\, Confession\, Adoration\, Silence\, and Mass will be offered. \nClick on the link to read the 2023-2024 Cancellation Policy before registering. \nMEN REGISTER HERE \nWOMEN REGISTER HERE
URL:https://rcnytristate.org/event/spiritual-exercises-for-young-adults/
LOCATION:Mariapolis Luminosa\, 200 Cardinal Rd\, Hyde Park\, New York
CATEGORIES:weekend retreats
ATTACH;FMTTYPE=image/jpeg:https://rcnytristate.org/wp-content/uploads/2023/03/YA-fc-e1682973220846.jpg
ORGANIZER;CN="Mary Therrell":MAILTO:events@rcnytristate.org
END:VEVENT
END:VCALENDAR