BEGIN:VCALENDAR
VERSION:2.0
PRODID:-//RC NY Tri-State - ECPv6.15.20//NONSGML v1.0//EN
CALSCALE:GREGORIAN
METHOD:PUBLISH
X-WR-CALNAME:RC NY Tri-State
X-ORIGINAL-URL:https://rcnytristate.org
X-WR-CALDESC:Events for RC NY Tri-State
REFRESH-INTERVAL;VALUE=DURATION:PT1H
X-Robots-Tag:noindex
X-PUBLISHED-TTL:PT1H
BEGIN:VTIMEZONE
TZID:America/New_York
BEGIN:DAYLIGHT
TZOFFSETFROM:-0500
TZOFFSETTO:-0400
TZNAME:EDT
DTSTART:20220313T070000
END:DAYLIGHT
BEGIN:STANDARD
TZOFFSETFROM:-0400
TZOFFSETTO:-0500
TZNAME:EST
DTSTART:20221106T060000
END:STANDARD
BEGIN:DAYLIGHT
TZOFFSETFROM:-0500
TZOFFSETTO:-0400
TZNAME:EDT
DTSTART:20230312T070000
END:DAYLIGHT
BEGIN:STANDARD
TZOFFSETFROM:-0400
TZOFFSETTO:-0500
TZNAME:EST
DTSTART:20231105T060000
END:STANDARD
BEGIN:DAYLIGHT
TZOFFSETFROM:-0500
TZOFFSETTO:-0400
TZNAME:EDT
DTSTART:20240310T070000
END:DAYLIGHT
BEGIN:STANDARD
TZOFFSETFROM:-0400
TZOFFSETTO:-0500
TZNAME:EST
DTSTART:20241103T060000
END:STANDARD
END:VTIMEZONE
BEGIN:VEVENT
DTSTART;TZID=America/New_York:20230505T190000
DTEND;TZID=America/New_York:20230507T190000
DTSTAMP:20260423T012720
CREATED:20230502T162531Z
LAST-MODIFIED:20230505T200229Z
UID:16623-1683313200-1683486000@rcnytristate.org
SUMMARY:Spiritual Exercises for Young Adults
DESCRIPTION:With so much going on in your life\, why not stop and take time for yourself and to find God in a new\, more profound way? Come and experience the power of Ignatian Spiritual Exercises! \nGuided meditations\, Confession\, Adoration\, Silence\, and Mass will be offered. \nClick on the link to read the 2023-2024 Cancellation Policy before registering. \nMEN REGISTER HERE \nWOMEN REGISTER HERE
URL:https://rcnytristate.org/event/spiritual-exercises-for-young-adults/
LOCATION:Mariapolis Luminosa\, 200 Cardinal Rd\, Hyde Park\, New York
CATEGORIES:weekend retreats
ATTACH;FMTTYPE=image/jpeg:https://rcnytristate.org/wp-content/uploads/2023/03/YA-fc-e1682973220846.jpg
ORGANIZER;CN="Mary Therrell":MAILTO:events@rcnytristate.org
END:VEVENT
END:VCALENDAR