BEGIN:VCALENDAR
VERSION:2.0
PRODID:-//RC NY Tri-State - ECPv6.15.20//NONSGML v1.0//EN
CALSCALE:GREGORIAN
METHOD:PUBLISH
X-WR-CALNAME:RC NY Tri-State
X-ORIGINAL-URL:https://rcnytristate.org
X-WR-CALDESC:Events for RC NY Tri-State
REFRESH-INTERVAL;VALUE=DURATION:PT1H
X-Robots-Tag:noindex
X-PUBLISHED-TTL:PT1H
BEGIN:VTIMEZONE
TZID:America/New_York
BEGIN:DAYLIGHT
TZOFFSETFROM:-0500
TZOFFSETTO:-0400
TZNAME:EDT
DTSTART:20250309T070000
END:DAYLIGHT
BEGIN:STANDARD
TZOFFSETFROM:-0400
TZOFFSETTO:-0500
TZNAME:EST
DTSTART:20251102T060000
END:STANDARD
BEGIN:DAYLIGHT
TZOFFSETFROM:-0500
TZOFFSETTO:-0400
TZNAME:EDT
DTSTART:20260308T070000
END:DAYLIGHT
BEGIN:STANDARD
TZOFFSETFROM:-0400
TZOFFSETTO:-0500
TZNAME:EST
DTSTART:20261101T060000
END:STANDARD
BEGIN:DAYLIGHT
TZOFFSETFROM:-0500
TZOFFSETTO:-0400
TZNAME:EDT
DTSTART:20270314T070000
END:DAYLIGHT
BEGIN:STANDARD
TZOFFSETFROM:-0400
TZOFFSETTO:-0500
TZNAME:EST
DTSTART:20271107T060000
END:STANDARD
END:VTIMEZONE
BEGIN:VEVENT
DTSTART;TZID=America/New_York:20260617T093000
DTEND;TZID=America/New_York:20260617T123000
DTSTAMP:20260422T212242
CREATED:20250819T022538Z
LAST-MODIFIED:20260302T170456Z
UID:26092-1781688600-1781699400@rcnytristate.org
SUMMARY:NJ Morning of Reflection for Regnum Christi Women
DESCRIPTION:This retreat is for Regnum Christi women only and includes Mass\, the opportunity for Confession\, a reflection for the mind and heart\, and time for fellowship. \nFee for Regnum Christi Members: $25 \nFee for guests: $10 \nREGISTER \n 
URL:https://rcnytristate.org/event/nj-morning-of-reflection-for-regnum-christi-women/
LOCATION:Shrine of St. Joseph\, 1050 LONG HILL ROAD\, Stirling\, 07980\, United States
CATEGORIES:mini retreats,RC member events,Retreats
ATTACH;FMTTYPE=image/png:https://rcnytristate.org/wp-content/uploads/2025/08/2024-Professions-8.png
ORGANIZER;CN="Sue Zavodny":MAILTO:zavodnys@comcast.net
END:VEVENT
BEGIN:VEVENT
DTSTART;VALUE=DATE:20260620
DTEND;VALUE=DATE:20260621
DTSTAMP:20260422T212242
CREATED:20260122T033851Z
LAST-MODIFIED:20260302T170456Z
UID:27713-1781913600-1781999999@rcnytristate.org
SUMMARY:Young Adult Formation & Discernment
DESCRIPTION:We want to invite you to our morning retreat.. This retreat will include guided meditations\, adoration\, confessions\, lunch and more! \nPlease donate $15 to cover pizza and coffee @RCNewYork. \nTo learn more or register\, please contact Fr. Jorge Obregón\, LC at jobregon@legionaries.org
URL:https://rcnytristate.org/event/young-adult-formation-discernment/
LOCATION:LC Rye community house\, 815 Boston Post Road\, Rye\, NY\, 10580\, United States
CATEGORIES:mini retreats,Young Adult
ATTACH;FMTTYPE=image/png:https://rcnytristate.org/wp-content/uploads/2026/01/Nov5-AdventVideoMR-2.png
ORGANIZER;CN="Fr. Jorge Obregon":MAILTO:jobregon@legionaries.org
END:VEVENT
BEGIN:VEVENT
DTSTART;TZID=America/New_York:20260620T160000
DTEND;TZID=America/New_York:20260620T190000
DTSTAMP:20260422T212242
CREATED:20250825T021118Z
LAST-MODIFIED:20260302T170456Z
UID:26148-1781971200-1781982000@rcnytristate.org
SUMMARY:Year End Mass and Picnic
DESCRIPTION:Come join in the fun as we celebrate the close of a wonderful year of apostolic activities! \nREGISTER
URL:https://rcnytristate.org/event/year-end-mass-and-picnic/
LOCATION:LC Rye community house\, 815 Boston Post Road\, Rye\, NY\, 10580\, United States
ATTACH;FMTTYPE=image/jpeg:https://rcnytristate.org/wp-content/uploads/2024/07/June-BBQ-Mass-2.jpg
ORGANIZER;CN="Lisa Rooney":MAILTO:lisarooney76@gmail.com
END:VEVENT
BEGIN:VEVENT
DTSTART;TZID=America/New_York:20260629T093000
DTEND;TZID=America/New_York:20260629T093000
DTSTAMP:20260422T212242
CREATED:20260420T134418Z
LAST-MODIFIED:20260420T135359Z
UID:28551-1782725400-1782725400@rcnytristate.org
SUMMARY:18th Annual Swing Fore Seminarians
DESCRIPTION:June 28 – Optional Evening of Reflection\nJoin us at the seminary the night before the tournament\, June 28\, for an optional Evening of Prayer.  The evening will include a welcome reception\, a chapel prayer\, dinner\, and a brief spiritual reflection by a Legionary Father. It’s a wonderful opportunity for fellowship and prayer. \nJune 29 – Swing Fore Seminarians Golf Tournament\nTournament Schedule:\nRegistration – 9:30 a.m.\nTee Off – 10:00 a.m.\nLunch at the Turn\nCocktails – 4:00 p.m.\nDinner – 5:00 p.m. \nDetails \n\n4-Person Scramble / Shotgun Start\nRegistration Includes: Gift Package\, 18 Holes with Cart\, Lunch\, Drink Tickets and Buffet Dinner\nRaffle & Silent Auction\nPrizes Awarded for: Best Score\, Longest Drive\, Hole-in-One\, Closest to the Pin\, Putting Contest\n\nFor More Information\nCandy Nesbit (203) 915-6384\ncnesbit@legionofchrist.org \nAnne Ciacciarella (203) 494-1338\nannec@legionofchrist.org \nSign up to golf or to sponsor our tournament at www.lccheshire.com/golf2026
URL:https://rcnytristate.org/event/18th-annual-swing-fore-seminarians/
LOCATION:Southington Country Club\, 150 Savage St\, Plantsville\, CT\, 06479\, United States
CATEGORIES:Fundraiser,Special Event,special events
ATTACH;FMTTYPE=image/jpeg:https://rcnytristate.org/wp-content/uploads/2026/04/2026-Golf-Bukkwk.jpg
ORGANIZER;CN="Candy Nesbit":MAILTO:contact@lccheshire.org
END:VEVENT
BEGIN:VEVENT
DTSTART;VALUE=DATE:20260711
DTEND;VALUE=DATE:20260712
DTSTAMP:20260422T212242
CREATED:20260122T033937Z
LAST-MODIFIED:20260302T170456Z
UID:27714-1783728000-1783814399@rcnytristate.org
SUMMARY:Young Adult Retreat
DESCRIPTION:We want to invite you to our morning retreat. This retreat will include guided meditations\, adoration\, confessions\, lunch and more! \nPlease donate $15 to cover pizza and coffee @RCNewYork. \nTo learn more or register\, please contact Fr. Jorge Obregón\, LC at jobregon@legionaries.org
URL:https://rcnytristate.org/event/young-adult-retreat/
LOCATION:LC Rye community house\, 815 Boston Post Road\, Rye\, NY\, 10580\, United States
CATEGORIES:mini retreats,Young Adult
ATTACH;FMTTYPE=image/png:https://rcnytristate.org/wp-content/uploads/2025/01/Monthly-Retreats-Are-Back-6.png
ORGANIZER;CN="Fr. Jorge Obregon":MAILTO:jobregon@legionaries.org
END:VEVENT
BEGIN:VEVENT
DTSTART;TZID=America/New_York:20260815T103000
DTEND;TZID=America/New_York:20260815T140000
DTSTAMP:20260422T212242
CREATED:20260316T190741Z
LAST-MODIFIED:20260316T191113Z
UID:28242-1786789800-1786802400@rcnytristate.org
SUMMARY:Mass of Religious Professions 2026
DESCRIPTION:Come…witness the joy of Professions! After completing two years of novitiate\, our novices profess vows of poverty\, chastity\, and obedience for the first time\, making them religious seminarians. Join us for this incredible moment in the lives of these young men. Then\, help us to celebrate them with a huge picnic on the seminary grounds. \nSaturday\, August 15\, 2026\nLegionaries of Christ Seminary Chapel\n475 Oak Avenue\, Cheshire\, CT 06410 \nMass 10:30 am\nPicnic immediately following the Mass. \nRSVP \nIf you are unable to attend\, please consider supporting our seminarians this academic year by going to lccheshire.com/professions2026 \n  \n 
URL:https://rcnytristate.org/event/mass-of-religious-professions/
LOCATION:Legionaries of Christ Novitiate and College of Humanities\, 475 Oak Avenue\, Cheshire\, CT\, 06410\, United States
CATEGORIES:RC member events,Special Event,special events
ATTACH;FMTTYPE=image/jpeg:https://rcnytristate.org/wp-content/uploads/2026/03/Professions-2026-event.jpg
ORGANIZER;CN="Candy Nesbit":MAILTO:contact@lccheshire.org
END:VEVENT
BEGIN:VEVENT
DTSTART;VALUE=DATE:20261010
DTEND;VALUE=DATE:20261012
DTSTAMP:20260422T212242
CREATED:20260325T013128Z
LAST-MODIFIED:20260325T013128Z
UID:28324-1791590400-1791763199@rcnytristate.org
SUMMARY:Three to Get Married - 2 day program
DESCRIPTION:  \nFor over 40 years\, we have prepared couples for the sacrament of marriage. Our Three to Get Married Marriage Preparation Program draws upon the best in contemporary psychology\, practical wisdom from experienced married couples\, and the beauty of the Catholic Church’s teachings on marriage and family life to provide couples with the best foundation on which to build a successful marriage. Our program aims to provide each couple with a reflective and in-depth preparation for a joyful\, faith-filled marriage—based on love that not only endures but actually grows stronger year after year. \nOur Three to Get Married course satisfies the Pre-Cana requirement for those in the Archdiocese of New York\, the Diocese of Bridgeport\, and others by pastoral permission. It is suggested that you register at least 6 months before your wedding. Overnight accommodation is not included. \nSaturday 9:00 am to 6:30 pm and Sunday 9:00 am to 1:30 pm. \n  \nREGISTER \n 
URL:https://rcnytristate.org/event/three-to-get-married-2-day-program-2/
LOCATION:LC Rye community house\, 815 Boston Post Road\, Rye\, NY\, 10580\, United States
CATEGORIES:marriage preparation
ATTACH;FMTTYPE=image/png:https://rcnytristate.org/wp-content/uploads/2023/03/3tgm-fc-v2.png
ORGANIZER;CN="Laura Esposito":MAILTO:EspositoLauraMary@gmail.com
END:VEVENT
END:VCALENDAR