BEGIN:VCALENDAR
VERSION:2.0
PRODID:-//RC NY Tri-State - ECPv6.15.20//NONSGML v1.0//EN
CALSCALE:GREGORIAN
METHOD:PUBLISH
X-ORIGINAL-URL:https://rcnytristate.org
X-WR-CALDESC:Events for RC NY Tri-State
REFRESH-INTERVAL;VALUE=DURATION:PT1H
X-Robots-Tag:noindex
X-PUBLISHED-TTL:PT1H
BEGIN:VTIMEZONE
TZID:America/New_York
BEGIN:DAYLIGHT
TZOFFSETFROM:-0500
TZOFFSETTO:-0400
TZNAME:EDT
DTSTART:20230312T070000
END:DAYLIGHT
BEGIN:STANDARD
TZOFFSETFROM:-0400
TZOFFSETTO:-0500
TZNAME:EST
DTSTART:20231105T060000
END:STANDARD
BEGIN:DAYLIGHT
TZOFFSETFROM:-0500
TZOFFSETTO:-0400
TZNAME:EDT
DTSTART:20240310T070000
END:DAYLIGHT
BEGIN:STANDARD
TZOFFSETFROM:-0400
TZOFFSETTO:-0500
TZNAME:EST
DTSTART:20241103T060000
END:STANDARD
BEGIN:DAYLIGHT
TZOFFSETFROM:-0500
TZOFFSETTO:-0400
TZNAME:EDT
DTSTART:20250309T070000
END:DAYLIGHT
BEGIN:STANDARD
TZOFFSETFROM:-0400
TZOFFSETTO:-0500
TZNAME:EST
DTSTART:20251102T060000
END:STANDARD
END:VTIMEZONE
BEGIN:VEVENT
DTSTART;TZID=America/New_York:20241003T193000
DTEND;TZID=America/New_York:20241003T204500
DTSTAMP:20260423T014254
CREATED:20240819T161430Z
LAST-MODIFIED:20240916T204013Z
UID:22581-1727983800-1727988300@rcnytristate.org
SUMMARY:Marriage Evening
DESCRIPTION:Join other couples in the church for a talk and meditation by a Legionary of Christ priest\, followed by time for you and your spouse to pray and share your thoughts. At the end\, there will be fellowship with the other couples. The talks in this series include: \nOct. 3: Understanding your Man/Woman in their “Otherness”- Fr. Jorge Obregon\, L.C. \nNov. 7: Marriage in the Beginning: God’s Plan for Marriage by Fr. Mark Haydu\, L.C. \nJan. 9: Rediscovering the Beauty and Fun in your Spouse- Fr. Eric Nielsen\, L.C. \nFeb. 6: Healing in Marriage: How Each Couple Heals Together in their Journey- Fr. Jorge Obregon\, L.C. \nMar. 6: The Secrets of Remaining in Love- Fr. Mark Haydu\, L.C. \nApr. 3: The 7 Longings of the Heart and our Distorted Pursuit of Them- Fr. Daniel Ray\, L.C. \nMay 1: The Power Christ Gives Me to Bear my Spouse’s Weaknesses- Fr. Eric Nielsen\, L.C. \nREGISTER
URL:https://rcnytristate.org/event/marriage-evenings-2/
LOCATION:Church of the Resurrection\, 910 Boston Post Rd\, Rye\, NY\, 10580\, United States
CATEGORIES:marriage renewal
ATTACH;FMTTYPE=image/jpeg:https://rcnytristate.org/wp-content/uploads/2024/07/Marriage-Evening.jpg
END:VEVENT
BEGIN:VEVENT
DTSTART;VALUE=DATE:20241005
DTEND;VALUE=DATE:20241007
DTSTAMP:20260423T014254
CREATED:20240702T140208Z
LAST-MODIFIED:20240702T140209Z
UID:22113-1728086400-1728259199@rcnytristate.org
SUMMARY:Three to Get Married - 2 day program
DESCRIPTION:For over 40 years\, we have prepared couples for the sacrament of marriage. Our Three to Get Married Marriage Preparation Program draws upon the best in contemporary psychology\, practical wisdom from experienced married couples\, and the beauty of the Catholic Church’s teachings on marriage and family life to provide couples with the best foundation on which to build a successful marriage. Our program aims to provide each couple with a reflective and in-depth preparation for a joyful\, faith-filled marriage—based on love that not only endures but actually grows stronger year after year. \nOur Three to Get Married course satisfies the Pre-Cana requirement for those in the Archdiocese of New York\, the Diocese of Bridgeport\, and others by pastoral permission. It is suggested that you register at least 6 months before your wedding. Overnight accommodation is not included. \nSaturday 9:00 am to 6:30 pm and Sunday 9:00 am to 1:30 pm. \n \n\nREGISTER
URL:https://rcnytristate.org/event/three-to-get-married-2-2-2/
LOCATION:LC Rye community house\, 815 Boston Post Road\, Rye\, NY\, 10580\, United States
CATEGORIES:marriage preparation
ATTACH;FMTTYPE=image/png:https://rcnytristate.org/wp-content/uploads/2023/03/3tgm-fc-v2.png
ORGANIZER;CN="Laura Esposito":MAILTO:EspositoLauraMary@gmail.com
END:VEVENT
BEGIN:VEVENT
DTSTART;TZID=America/New_York:20241016T093000
DTEND;TZID=America/New_York:20241016T120000
DTSTAMP:20260423T014254
CREATED:20240816T183914Z
LAST-MODIFIED:20241001T022227Z
UID:22539-1729071000-1729080000@rcnytristate.org
SUMMARY:NJ Morning of Reflection for Women
DESCRIPTION:The Angels and the Saints in our Spiritual Lives: Women’s Morning Retreat \nJoin us for our monthly mini retreat. \nEach retreat includes Mass\, the opportunity for Confession\, a reflection for the mind and heart\, and time for fellowship. \nFee for Regnum Christi Members: $25 \nFee for guests: $10 \nFree childcare will be available during this retreat. \nREGISTER
URL:https://rcnytristate.org/event/nj-morning-of-reflection-for-women-2/
LOCATION:Shrine of St. Joseph\, 1050 LONG HILL ROAD\, Stirling\, 07980\, United States
CATEGORIES:mini retreats
ATTACH;FMTTYPE=image/png:https://rcnytristate.org/wp-content/uploads/2024/08/Assumption-Novena-900-x-600-px-900-x-500-px-1.png
ORGANIZER;CN="Sue Zavodny":MAILTO:zavodnys@comcast.net
END:VEVENT
BEGIN:VEVENT
DTSTART;TZID=America/New_York:20241016T180000
DTEND;TZID=America/New_York:20241016T213000
DTSTAMP:20260423T014254
CREATED:20240219T050512Z
LAST-MODIFIED:20240923T171409Z
UID:20930-1729101600-1729114200@rcnytristate.org
SUMMARY:Double Feature Event with Jason Evert featuring Two Talks: Purified and Gender & the Theology of Your Body
DESCRIPTION:Don’t miss the opportunity to hear from renowned speaker Jason Evert\, live at Church of the Resurrection at this special Double Feature event hosted by Regnum Christi.\, an event for teens and adults\, ages 13+. \nGet answers to life’s tough questions about love\, dating\, and relationships. This event includes two talks entitled\, “Purified and Gender” and “The Theology of Your Body\,” including Eucharistic Adoration and the Sacrament of Reconciliation. The combination of lecture\, prayer time\, and sacrament transforms into a retreat for the whole family\, allowing them to encounter the source of purity\, healing\, and renewal\, Jesus Christ. \nThe evening also includes free resources for attendees! \nREGISTER \nClick these links for more information about the presentations: \nPurified: \nGender & the Theology of Your Body: 
URL:https://rcnytristate.org/event/double-feature-event-with-jason-evert-featuring-two-talks-purified-and-gender-the-theology-of-your-body/
LOCATION:Church of the Resurrection\, 910 Boston Post Rd\, Rye\, NY\, 10580\, United States
CATEGORIES:special events
ATTACH;FMTTYPE=image/png:https://rcnytristate.org/wp-content/uploads/2024/02/ECYD-20.png
ORGANIZER;CN="Mary Therrell":MAILTO:events@rcnytristate.org
END:VEVENT
BEGIN:VEVENT
DTSTART;TZID=America/New_York:20241016T183000
DTEND;TZID=America/New_York:20241016T210000
DTSTAMP:20260423T014254
CREATED:20240819T160103Z
LAST-MODIFIED:20241001T022427Z
UID:22564-1729103400-1729112400@rcnytristate.org
SUMMARY:NJ Evening of Reflection for Women
DESCRIPTION:The Angels and the Saints in our Spiritual Lives: Women’s Morning Retreat \nJoin us for our monthly mini retreat. \nEach retreat includes Mass\, the opportunity for Confession\, a reflection for the mind and heart\, and time for fellowship. \nFee for Regnum Christi Members: $25 \nFee for guests: $10 \nREGISTER
URL:https://rcnytristate.org/event/nj-evening-of-reflection-for-women-5/
LOCATION:Shrine of St. Joseph\, 1050 LONG HILL ROAD\, Stirling\, 07980\, United States
CATEGORIES:mini retreats
ATTACH;FMTTYPE=image/png:https://rcnytristate.org/wp-content/uploads/2024/08/Assumption-Novena-900-x-600-px-900-x-500-px-1.png
ORGANIZER;CN="Sue Zavodny":MAILTO:zavodnys@comcast.net
END:VEVENT
BEGIN:VEVENT
DTSTART;TZID=America/New_York:20241017T180000
DTEND;TZID=America/New_York:20241017T200000
DTSTAMP:20260423T014254
CREATED:20240812T185319Z
LAST-MODIFIED:20240910T203417Z
UID:22500-1729188000-1729195200@rcnytristate.org
SUMMARY:ECYD and RC Young Adult Family & Friends Concert with RC Music Collective
DESCRIPTION:Gather with family & friends and come rock out with us at an awesome concert featuring our favorite band\, RC Music Collective! \nIf you haven’t heard them yet\, now’s the perfect time to check them out: RC Music Collective. \nWe can’t wait to see you there! \nAll minors must be accompanied by a parent or guardian. \nREGISTER
URL:https://rcnytristate.org/event/ecyd-family-friends-concert-with-rc-music-collective/
LOCATION:LC Rye community house\, 815 Boston Post Road\, Rye\, NY\, 10580\, United States
CATEGORIES:special events
ATTACH;FMTTYPE=image/jpeg:https://rcnytristate.org/wp-content/uploads/2024/08/RC-Collective.jpg
ORGANIZER;CN="Carolina Cordova":MAILTO:mccordova@gmail.com
END:VEVENT
BEGIN:VEVENT
DTSTART;TZID=America/New_York:20241019T091500
DTEND;TZID=America/New_York:20241019T123000
DTSTAMP:20260423T014254
CREATED:20240819T155903Z
LAST-MODIFIED:20241014T040714Z
UID:22560-1729329300-1729341000@rcnytristate.org
SUMMARY:NY Morning of Reflection for Women
DESCRIPTION:The morning will begin with light refreshments and a talk followed by Exposition\, Meditation\, and Mass. \nREGISTER
URL:https://rcnytristate.org/event/rye-morning-of-reflection-for-women-3/
LOCATION:LC Rye community house\, 815 Boston Post Road\, Rye\, NY\, 10580\, United States
CATEGORIES:mini retreats
ATTACH;FMTTYPE=image/png:https://rcnytristate.org/wp-content/uploads/2024/08/Assumption-Novena-900-x-600-px-900-x-500-px-1.png
ORGANIZER;CN="Valerie Anastasio":MAILTO:valerieanastasio@me.com
END:VEVENT
BEGIN:VEVENT
DTSTART;TZID=America/New_York:20241026T090000
DTEND;TZID=America/New_York:20241026T120000
DTSTAMP:20260423T014254
CREATED:20240930T194306Z
LAST-MODIFIED:20240930T201224Z
UID:22957-1729933200-1729944000@rcnytristate.org
SUMMARY:Women's Morning of Reflection in North Branford\, CT
DESCRIPTION:Enjoy a reflection on “The Communion of Saints” by Fr. Francis Sunderland\, L.C. \nWe will begin with Mass at 9:00 am.  There will light breakfast fare following the Mass. \nReflection from 10:00 am -12:00 pm. \nFor more information about this event contact St. Augustine’s Parish Secretary at Secretary@nbcatholics.org.
URL:https://rcnytristate.org/event/womens-morning-of-reflection-in-north-branford-ct/
LOCATION:St. Augustine Church\, North Branford\, CT\, 30 Caputo Road\, North Branford\, CT\, 06471\, United States
CATEGORIES:mini retreats
ATTACH;FMTTYPE=image/png:https://rcnytristate.org/wp-content/uploads/2024/09/Womens-Morning-of-Reflection_20240924_175244_0000.png
END:VEVENT
END:VCALENDAR