BEGIN:VCALENDAR
VERSION:2.0
PRODID:-//RC NY Tri-State - ECPv6.15.20//NONSGML v1.0//EN
CALSCALE:GREGORIAN
METHOD:PUBLISH
X-ORIGINAL-URL:https://rcnytristate.org
X-WR-CALDESC:Events for RC NY Tri-State
REFRESH-INTERVAL;VALUE=DURATION:PT1H
X-Robots-Tag:noindex
X-PUBLISHED-TTL:PT1H
BEGIN:VTIMEZONE
TZID:America/New_York
BEGIN:DAYLIGHT
TZOFFSETFROM:-0500
TZOFFSETTO:-0400
TZNAME:EDT
DTSTART:20230312T070000
END:DAYLIGHT
BEGIN:STANDARD
TZOFFSETFROM:-0400
TZOFFSETTO:-0500
TZNAME:EST
DTSTART:20231105T060000
END:STANDARD
BEGIN:DAYLIGHT
TZOFFSETFROM:-0500
TZOFFSETTO:-0400
TZNAME:EDT
DTSTART:20240310T070000
END:DAYLIGHT
BEGIN:STANDARD
TZOFFSETFROM:-0400
TZOFFSETTO:-0500
TZNAME:EST
DTSTART:20241103T060000
END:STANDARD
BEGIN:DAYLIGHT
TZOFFSETFROM:-0500
TZOFFSETTO:-0400
TZNAME:EDT
DTSTART:20250309T070000
END:DAYLIGHT
BEGIN:STANDARD
TZOFFSETFROM:-0400
TZOFFSETTO:-0500
TZNAME:EST
DTSTART:20251102T060000
END:STANDARD
END:VTIMEZONE
BEGIN:VEVENT
DTSTART;TZID=America/New_York:20241106T093000
DTEND;TZID=America/New_York:20241106T120000
DTSTAMP:20260422T235904
CREATED:20240916T223714Z
LAST-MODIFIED:20240916T233858Z
UID:22842-1730885400-1730894400@rcnytristate.org
SUMMARY:The King of Life and History: Trusting in God's Providence: Women's Morning Retreat - Rye\, NY
DESCRIPTION:Please join us for a Morning of Reflection at the Legionary Community House in Rye with our special preaching guests the Lay Consecrated Women of Regnum Christi. Light refreshments and time for fellowship will follow the reflections. \nMass and Confession will be offered by Fr. Eric Nielsen\, L.C. \nREGISTER
URL:https://rcnytristate.org/event/the-king-of-life-and-history-trusting-in-gods-providence-womens-morning-retreat/
LOCATION:LC Rye community house\, 815 Boston Post Road\, Rye\, NY\, 10580\, United States
CATEGORIES:mini retreats
ATTACH;FMTTYPE=image/png:https://rcnytristate.org/wp-content/uploads/2024/08/Assumption-Novena-900-x-600-px-900-x-500-px-10.png
ORGANIZER;CN="Lisa Rooney":MAILTO:lisarooney76@gmail.com
END:VEVENT
BEGIN:VEVENT
DTSTART;TZID=America/New_York:20241107T193000
DTEND;TZID=America/New_York:20241107T204500
DTSTAMP:20260422T235904
CREATED:20240819T161455Z
LAST-MODIFIED:20240916T203909Z
UID:22582-1731007800-1731012300@rcnytristate.org
SUMMARY:Marriage Evening
DESCRIPTION:Join other couples in the church for a talk and meditation by a Legionary of Christ priest\, followed by time for you and your spouse to pray and share your thoughts. At the end\, there will be fellowship with the other couples. The talks in this series include: \nOct. 3: Understanding your Man/Woman in their “Otherness”- Fr. Jorge Obregon\, L.C. \nNov. 7: Marriage in the Beginning: God’s Plan for Marriage by Fr. Mark Haydu\, L.C. \nJan. 9: Rediscovering the Beauty and Fun in your Spouse- Fr. Eric Nielsen\, L.C. \nFeb. 6: Healing in Marriage: How Each Couple Heals Together in their Journey- Fr. Jorge Obregon\, L.C. \nMar. 6: The Secrets of Remaining in Love- Fr. Mark Haydu\, L.C. \nApr. 3: The 7 Longings of the Heart and our Distorted Pursuit of Them- Fr. Daniel Ray\, L.C. \nMay 1: The Power Christ Gives Me to Bear my Spouse’s Weaknesses- Fr. Eric Nielsen\, L.C. \nREGISTER
URL:https://rcnytristate.org/event/marriage-evenings-3/
LOCATION:Church of the Resurrection\, 910 Boston Post Rd\, Rye\, NY\, 10580\, United States
CATEGORIES:marriage renewal
ATTACH;FMTTYPE=image/jpeg:https://rcnytristate.org/wp-content/uploads/2024/07/Marriage-Evening.jpg
END:VEVENT
BEGIN:VEVENT
DTSTART;TZID=America/New_York:20241108T093000
DTEND;TZID=America/New_York:20241108T120000
DTSTAMP:20260422T235904
CREATED:20240830T212031Z
LAST-MODIFIED:20240916T224223Z
UID:22622-1731058200-1731067200@rcnytristate.org
SUMMARY:The King of Life and History: Trusting in God's Providence: Women's Morning Retreat - Stirling\, NJ
DESCRIPTION:Please join us for a Morning of Reflection at St. Joseph Shrine with our special preaching guests the Lay Consecrated Women of Regnum Christi. Light refreshments and time for fellowship will follow the reflections. \nMass and Confession will be offered by Fr. Eric Nielsen\, L.C. \nREGISTER
URL:https://rcnytristate.org/event/nj-morning-of-reflection-with-consecrated-women/
LOCATION:Shrine of St. Joseph\, 1050 LONG HILL ROAD\, Stirling\, 07980\, United States
CATEGORIES:mini retreats
ATTACH;FMTTYPE=image/png:https://rcnytristate.org/wp-content/uploads/2024/08/Assumption-Novena-900-x-600-px-900-x-500-px-10.png
ORGANIZER;CN="Sue Zavodny":MAILTO:zavodnys@comcast.net
END:VEVENT
BEGIN:VEVENT
DTSTART;TZID=America/New_York:20241109T093000
DTEND;TZID=America/New_York:20241109T150000
DTSTAMP:20260422T235904
CREATED:20240920T200404Z
LAST-MODIFIED:20241017T203940Z
UID:22624-1731144600-1731164400@rcnytristate.org
SUMMARY:A Catholic Man
DESCRIPTION:In this retreat you will discover what it is to be a Catholic man and what our role is in relation to women. \nThis retreat will include: \nTestimonies from other young men\nTime for prayer\nTalks\nMass \nThis retreat if for young professionals ages 23-39. \nREGISTER
URL:https://rcnytristate.org/event/a-catholic-man/
LOCATION:Old St. Patrick’s Cathedral\, 263 Mulberry St.\, New York\, 10012\, United States
ATTACH;FMTTYPE=image/png:https://rcnytristate.org/wp-content/uploads/2024/09/Flyer-MEN_Web.png
ORGANIZER;CN="Fr. Jorge Obregon":MAILTO:jobregon@legionaries.org
END:VEVENT
BEGIN:VEVENT
DTSTART;TZID=America/New_York:20241114T183000
DTEND;TZID=America/New_York:20241114T203000
DTSTAMP:20260422T235904
CREATED:20240726T143044Z
LAST-MODIFIED:20240726T143044Z
UID:22384-1731609000-1731616200@rcnytristate.org
SUMMARY:Come Worship the King!
DESCRIPTION:Join us for a unique and powerful evening of praise\, worship\, live music\, and fellowship as we gather at the house of the Legionaries of Christ in Rye. This outdoor event is for the whole family! Feel free to invite friends as well. There will be a food truck on site providing American cuisine for purchase before the Adoration hour. \nOutdoor Event \nFood and LIVE Worship Music \nConfession will be offered. Let us adore HIM as a Regnum Christi Family! \nADORATION WITH LIVE MUSIC: 6:30-8:30 \n815 Boston Post Rd\, Rye\, NY
URL:https://rcnytristate.org/event/come-worship-the-king-5/
LOCATION:LC Rye community house\, 815 Boston Post Road\, Rye\, NY\, 10580\, United States
CATEGORIES:special events
ATTACH;FMTTYPE=image/jpeg:https://rcnytristate.org/wp-content/uploads/2024/07/WhatsApp-Image-2023-11-19-at-12.08.31-PM.jpeg
ORGANIZER;CN="Melissa Gordon":MAILTO:mgordon@legionofchrist.org
END:VEVENT
BEGIN:VEVENT
DTSTART;TZID=America/New_York:20241124T143000
DTEND;TZID=America/New_York:20241124T170000
DTSTAMP:20260422T235904
CREATED:20240913T175649Z
LAST-MODIFIED:20241023T202808Z
UID:22811-1732458600-1732467600@rcnytristate.org
SUMMARY:Regnum Christi Day Celebration
DESCRIPTION:Come join together with your Regnum Christi Family to celebrate this great day where we honor Christ the King! \nREGISTER
URL:https://rcnytristate.org/event/christ-the-king-celebration/
LOCATION:Saint Paul Church\, 84 Sherwood Ave\, Greenwich\, CT\, United States
CATEGORIES:special events
ATTACH;FMTTYPE=image/png:https://rcnytristate.org/wp-content/uploads/2024/09/Assumption-Novena-900-x-600-px-900-x-500-px-11.png
ORGANIZER;CN="Mary Therrell":MAILTO:events@rcnytristate.org
END:VEVENT
END:VCALENDAR