BEGIN:VCALENDAR
VERSION:2.0
PRODID:-//RC NY Tri-State - ECPv6.15.20//NONSGML v1.0//EN
CALSCALE:GREGORIAN
METHOD:PUBLISH
X-WR-CALNAME:RC NY Tri-State
X-ORIGINAL-URL:https://rcnytristate.org
X-WR-CALDESC:Events for RC NY Tri-State
REFRESH-INTERVAL;VALUE=DURATION:PT1H
X-Robots-Tag:noindex
X-PUBLISHED-TTL:PT1H
BEGIN:VTIMEZONE
TZID:America/New_York
BEGIN:DAYLIGHT
TZOFFSETFROM:-0500
TZOFFSETTO:-0400
TZNAME:EDT
DTSTART:20230312T070000
END:DAYLIGHT
BEGIN:STANDARD
TZOFFSETFROM:-0400
TZOFFSETTO:-0500
TZNAME:EST
DTSTART:20231105T060000
END:STANDARD
BEGIN:DAYLIGHT
TZOFFSETFROM:-0500
TZOFFSETTO:-0400
TZNAME:EDT
DTSTART:20240310T070000
END:DAYLIGHT
BEGIN:STANDARD
TZOFFSETFROM:-0400
TZOFFSETTO:-0500
TZNAME:EST
DTSTART:20241103T060000
END:STANDARD
BEGIN:DAYLIGHT
TZOFFSETFROM:-0500
TZOFFSETTO:-0400
TZNAME:EDT
DTSTART:20250309T070000
END:DAYLIGHT
BEGIN:STANDARD
TZOFFSETFROM:-0400
TZOFFSETTO:-0500
TZNAME:EST
DTSTART:20251102T060000
END:STANDARD
BEGIN:DAYLIGHT
TZOFFSETFROM:-0500
TZOFFSETTO:-0400
TZNAME:EDT
DTSTART:20260308T070000
END:DAYLIGHT
BEGIN:STANDARD
TZOFFSETFROM:-0400
TZOFFSETTO:-0500
TZNAME:EST
DTSTART:20261101T060000
END:STANDARD
END:VTIMEZONE
BEGIN:VEVENT
DTSTART;TZID=America/New_York:20241207T090000
DTEND;TZID=America/New_York:20241207T120000
DTSTAMP:20260422T223218
CREATED:20240726T200708Z
LAST-MODIFIED:20241203T010120Z
UID:22220-1733562000-1733572800@rcnytristate.org
SUMMARY:Journey to Bethlehem: Advent Morning of Reflection for Women
DESCRIPTION:This morning retreat will be led by a Legionary priest and will include a talk\, meditation\, Exposition\, Reconciliation and Mass. \nCoffee\, tea\, and light breakfast will be offered; bring your favorite treat to share. \nIn the spirit of imitating the generosity of the Magi\, any women who wish are invited to bring a pack of diapers which will be donated to the Sisters of Life for the mothers they serve. \nREGISTER \n  \n 
URL:https://rcnytristate.org/event/advent-retreat-for-women-copy/
LOCATION:Saint Paul Church\, 84 Sherwood Ave\, Greenwich\, CT\, United States
CATEGORIES:mini retreats
ATTACH;FMTTYPE=image/png:https://rcnytristate.org/wp-content/uploads/2024/07/Assumption-Novena-900-x-600-px-900-x-500-px-2.png
ORGANIZER;CN="Luisa Mendoza":MAILTO:luisamendoza1611@gmail.com
END:VEVENT
BEGIN:VEVENT
DTSTART;VALUE=DATE:20241216
DTEND;VALUE=DATE:20241222
DTSTAMP:20260422T223218
CREATED:20241211T202438Z
LAST-MODIFIED:20241211T203305Z
UID:23607-1734307200-1734825599@rcnytristate.org
SUMMARY:Advent Young Men’s Retreat
DESCRIPTION:Live Advent to the full with a 3-day silent retreat: preparing for Christmas like the Blessed Virgin Mary! The retreat follows the methodology of the Spiritual Exercises of St. Ignatius Loyola. Embrace the beauty of scenic surroundings as you reflect\, pray\, and grow spiritually. With expert guidance and mentorship\, this retreat promises to ignite your spirit\, strengthen your character\, and empower you to embrace your potential as a young man of faith. \nDon’t miss out on this life-changing experience that will leave you energized\, inspired\, and equipped to live out your faith with courage and conviction. Join us on this unforgettable journey! \nMORE INFO & TO REGISTER
URL:https://rcnytristate.org/event/advent-young-mens-retreat-2/
LOCATION:Legionaries of Christ Novitiate & College of Humanities\, 475 Oak Avenue\, Cheshire\, CT\, 06411\, United States
CATEGORIES:vocation events
ATTACH;FMTTYPE=image/png:https://rcnytristate.org/wp-content/uploads/2024/12/ym-spex-rDVvqB.tmp_.png
ORGANIZER;CN="Fr. Nathan Torrey%2C LC":MAILTO:visit@lccheshire.org
END:VEVENT
BEGIN:VEVENT
DTSTART;TZID=America/New_York:20241216T140000
DTEND;TZID=America/New_York:20241216T210000
DTSTAMP:20260422T223218
CREATED:20240408T154159Z
LAST-MODIFIED:20251214T031625Z
UID:21357-1734357600-1734382800@rcnytristate.org
SUMMARY:Advent Mission
DESCRIPTION:Praise the Lord! Another Mission is upon us! And this is probably the most joyful of all the Missions the Lord lets us help Him with– Advent Mission at St. Patrick’s Cathedral! With so many hordes of souls visiting the big Cathedral on Fifth\, just days before Christmas\, we anticipate 100’s coming in from the spiritual cold. \nDate: December 16 \nTime: 2:00 pm to 9:00 pm (as many hours within that range as you can give us) \nPlace: St Patrick Cathedral\, 5th Avenue between 50th and 51st\, NY\, NY 10020 \nTraining Zoom:  Sunday\, Dec. 13th at 7:00 p.m. Click HERE to access the training session. \nRead mission posts  |  Donate to the Mission \n\nPlease enable JavaScript in your browser to complete this form.Name *FirstLastEmail *Mobile *MIDTOWN *Monday\, December 16th: 2pm to 9pmTotal # attending *Age 17 welcome to attend if accompanied by a parent.Please enter full names of those attending *Submit
URL:https://rcnytristate.org/event/advent-mission-2/
LOCATION:Saint Patrick’s Cathedral\, 5th Avenue\, NY\, NY\, United States
CATEGORIES:nyc missions
ATTACH;FMTTYPE=image/png:https://rcnytristate.org/wp-content/uploads/2024/04/Advent-Missions-1.png
ORGANIZER;CN="Angela Kodicek":MAILTO:askodicek@gmail.com
END:VEVENT
BEGIN:VEVENT
DTSTART;VALUE=DATE:20241229
DTEND;VALUE=DATE:20250103
DTSTAMP:20260422T223218
CREATED:20241211T202442Z
LAST-MODIFIED:20241226T055454Z
UID:23612-1735430400-1735862399@rcnytristate.org
SUMMARY:Christmas Test Your Call Retreat
DESCRIPTION:A Test Your Call retreat is the opportunity to visit our novitiate and to share with other young men like yourself who are taking their first steps of formation and discernment. You’ll get to know the brothers\, experience with them their life of prayer\, community and formation. This includes Daily Mass\, Rosary\, Adoration\, work and sports\, as well as a directed retreat and the opportunity to meet with a Legionary Vocation Director. This lived experience will speak in some real way to the heart of each man discerning. \nMORE INFO & TO REGISTER
URL:https://rcnytristate.org/event/christmas-test-your-call-retreat-2/
LOCATION:Legionaries of Christ Novitiate & College of Humanities\, 475 Oak Avenue\, Cheshire\, CT\, 06411\, United States
CATEGORIES:Test Your Call,vocation events
ATTACH;FMTTYPE=image/png:https://rcnytristate.org/wp-content/uploads/2024/12/TYC-2025-lUJ1nl.tmp_.png
ORGANIZER;CN="Fr. Nathan Torrey%2C LC":MAILTO:visit@lccheshire.org
END:VEVENT
END:VCALENDAR