BEGIN:VCALENDAR
VERSION:2.0
PRODID:-//RC NY Tri-State - ECPv6.15.20//NONSGML v1.0//EN
CALSCALE:GREGORIAN
METHOD:PUBLISH
X-ORIGINAL-URL:https://rcnytristate.org
X-WR-CALDESC:Events for RC NY Tri-State
REFRESH-INTERVAL;VALUE=DURATION:PT1H
X-Robots-Tag:noindex
X-PUBLISHED-TTL:PT1H
BEGIN:VTIMEZONE
TZID:America/New_York
BEGIN:DAYLIGHT
TZOFFSETFROM:-0500
TZOFFSETTO:-0400
TZNAME:EDT
DTSTART:20240310T070000
END:DAYLIGHT
BEGIN:STANDARD
TZOFFSETFROM:-0400
TZOFFSETTO:-0500
TZNAME:EST
DTSTART:20241103T060000
END:STANDARD
BEGIN:DAYLIGHT
TZOFFSETFROM:-0500
TZOFFSETTO:-0400
TZNAME:EDT
DTSTART:20250309T070000
END:DAYLIGHT
BEGIN:STANDARD
TZOFFSETFROM:-0400
TZOFFSETTO:-0500
TZNAME:EST
DTSTART:20251102T060000
END:STANDARD
BEGIN:DAYLIGHT
TZOFFSETFROM:-0500
TZOFFSETTO:-0400
TZNAME:EDT
DTSTART:20260308T070000
END:DAYLIGHT
BEGIN:STANDARD
TZOFFSETFROM:-0400
TZOFFSETTO:-0500
TZNAME:EST
DTSTART:20261101T060000
END:STANDARD
END:VTIMEZONE
BEGIN:VEVENT
DTSTART;VALUE=DATE:20250227
DTEND;VALUE=DATE:20250303
DTSTAMP:20260422T181811
CREATED:20240913T182055Z
LAST-MODIFIED:20250217T202140Z
UID:22814-1740614400-1740959999@rcnytristate.org
SUMMARY:RC Women's Triduum of Renewal in New Jersey
DESCRIPTION:A Triduum of Renewal is a means for Regnum Christi members to grow and deepen in their relationship with Christ and in their vocation to Regnum Christi.  Ignatian Spiritual Exercises incorporate the Regnum Christi Spirituality and strengthen members in their formation and identity. \nRegistration fee includes overnight accommodations and meals. \nFr. Francis Sunderland\, LC will be directing the retreat. \nClick on the link to read the 2024-2025 Cancellation Policy before registering. \nREGISTRATION FOR THIS EVENT IS NOW CLOSED.\nFor more information contact Mary Therrell at events@rcnytristate.org \n 
URL:https://rcnytristate.org/event/rc-womens-triduum-of-renewal/
LOCATION:Loyola Retreat Center\, 161 James St.\, Morristown\, NJ\, 07960\, United States
CATEGORIES:weekend retreats
ATTACH;FMTTYPE=image/png:https://rcnytristate.org/wp-content/uploads/2024/09/Untitled-design-18.png
ORGANIZER;CN="Mary Therrell":MAILTO:events@rcnytristate.org
END:VEVENT
BEGIN:VEVENT
DTSTART;TZID=America/New_York:20250305T150000
DTEND;TZID=America/New_York:20250305T200000
DTSTAMP:20260422T181811
CREATED:20250224T034807Z
LAST-MODIFIED:20250303T193252Z
UID:24024-1741186800-1741204800@rcnytristate.org
SUMMARY:Ash Wednesday Mission
DESCRIPTION:Missionaries will be out on the streets around the Cathedral\, inviting Catholics to come in to pray or go to Confession. Why? To bring others to Christ in preparation for Easter. Adults 17 and older (17 year olds must be accompanied by an adult). \nThere will be a training session\, via Zoom\, at 7:30pm on March 4th. The link will be provided in the email confirmation\, once you submit your registration. \nREGISTER \n\nSaint Patrick’s Cathedral\n635 5th Ave\, New York\, NY 10022\n  \nWednesday\, March 5 from 3 pm to 8 pm \n 
URL:https://rcnytristate.org/event/ash-wednesday-mission/
LOCATION:Saint Patrick’s Cathedral\, 5th Avenue\, NY\, NY\, United States
CATEGORIES:nyc missions
ATTACH;FMTTYPE=image/png:https://rcnytristate.org/wp-content/uploads/2025/02/Header-Image-24.png
ORGANIZER;CN="Angela Kodicek":MAILTO:askodicek@gmail.com
END:VEVENT
BEGIN:VEVENT
DTSTART;TZID=America/New_York:20250308T090000
DTEND;TZID=America/New_York:20250308T120000
DTSTAMP:20260422T181811
CREATED:20240726T200447Z
LAST-MODIFIED:20250222T140320Z
UID:22223-1741424400-1741435200@rcnytristate.org
SUMMARY:Falling out of Love With Sin: NY Morning Retreat for Women
DESCRIPTION:Falling out of love with sin: Repentance and Conversion as the Gateway to the Kingdom. \nThe reality of sin as the chief obstacle to my fulfillment\, and to the building of Christ’s Kingdom \n  \nCome prepare your heart for the Passion of Jesus this Lent.\nThe morning will be led by a Legionary of Christ priest and include a talk\, meditation\, Exposition\, Reconciliation\, and Mass.\nCoffee\, tea\, and light breakfast will be offered; bring your favorite treat to share. \nIn the spirit of giving alms\, any women who wish are invited\nto bring men’s thermal tops/bottoms which will be\ndonated to the CFRs for St. Anthony’s shelter in the Bronx. \n  \nREGISTER
URL:https://rcnytristate.org/event/lenten-retreat-for-women-copy/
LOCATION:Saint Paul Church\, 84 Sherwood Ave\, Greenwich\, CT\, United States
CATEGORIES:mini retreats
ATTACH;FMTTYPE=image/png:https://rcnytristate.org/wp-content/uploads/2024/07/Assumption-Novena-900-x-600-px-900-x-500-px-13.png
ORGANIZER;CN="Lisa Leonard":MAILTO:sixleonards@aol.com
END:VEVENT
BEGIN:VEVENT
DTSTART;TZID=America/New_York:20250312T093000
DTEND;TZID=America/New_York:20250312T120000
DTSTAMP:20260422T181811
CREATED:20240816T184028Z
LAST-MODIFIED:20250222T140349Z
UID:22543-1741771800-1741780800@rcnytristate.org
SUMMARY:Falling out of Love With Sin: NJ Morning Retreat for Women
DESCRIPTION:Join us for our monthly mini retreat. \nEach retreat includes Mass\, the opportunity for Confession\, a reflection for the mind and heart\, and time for fellowship. \nFee for Regnum Christi Members: $25 \nFee for guests: $10 \n  \nFree childcare will be available during this retreat. \nREGISTER
URL:https://rcnytristate.org/event/nj-morning-of-reflection-for-women-4/
LOCATION:Shrine of St. Joseph\, 1050 LONG HILL ROAD\, Stirling\, 07980\, United States
CATEGORIES:mini retreats
ATTACH;FMTTYPE=image/png:https://rcnytristate.org/wp-content/uploads/2024/07/Assumption-Novena-900-x-600-px-900-x-500-px-13.png
ORGANIZER;CN="Sue Zavodny":MAILTO:zavodnys@comcast.net
END:VEVENT
BEGIN:VEVENT
DTSTART;TZID=America/New_York:20250312T183000
DTEND;TZID=America/New_York:20250312T210000
DTSTAMP:20260422T181811
CREATED:20240819T160200Z
LAST-MODIFIED:20250222T140520Z
UID:22567-1741804200-1741813200@rcnytristate.org
SUMMARY:Falling out of Love With Sin: NJ Evening Retreat for Women
DESCRIPTION:Join us for our monthly mini retreat. \nEach retreat includes Mass\, the opportunity for Confession\, a reflection for the mind and heart\, and time for fellowship. \nFee for Regnum Christi Members: $25 \nFee for guests: $10 \n  \nREGISTER
URL:https://rcnytristate.org/event/nj-evening-of-reflection-for-women-8/
LOCATION:Shrine of St. Joseph\, 1050 LONG HILL ROAD\, Stirling\, 07980\, United States
CATEGORIES:mini retreats
ATTACH;FMTTYPE=image/png:https://rcnytristate.org/wp-content/uploads/2024/07/Assumption-Novena-900-x-600-px-900-x-500-px-13.png
ORGANIZER;CN="Sue Zavodny":MAILTO:zavodnys@comcast.net
END:VEVENT
BEGIN:VEVENT
DTSTART;VALUE=DATE:20250314
DTEND;VALUE=DATE:20250317
DTSTAMP:20260422T181811
CREATED:20250116T194454Z
LAST-MODIFIED:20250308T022619Z
UID:23806-1741910400-1742169599@rcnytristate.org
SUMMARY:National Vocation Summit 2025
DESCRIPTION:Building a Culture of Vocations\nJoin religious\, diocesan\, and lay vocation leaders for the 2025 National Vocation Summit. The annual summit provides a unique opportunity to collaborate with leaders from every state of life with speakers\, testimonies\, and workshops focused on formation\, strategic planning\, and team building. \nMORE INFO & TO REGISTER
URL:https://rcnytristate.org/event/national-vocation-summit-2025/
LOCATION:Legionaries of Christ Novitiate & College of Humanities\, 475 Oak Avenue\, Cheshire\, CT\, 06411\, United States
CATEGORIES:Special Event,special events
ATTACH;FMTTYPE=image/png:https://rcnytristate.org/wp-content/uploads/2025/01/Vocations-Summit-2025-LI3pHL.tmp_.png
ORGANIZER;CN="Corinne Ann Murphy":MAILTO:cmurphy@legionofchrist.org
END:VEVENT
BEGIN:VEVENT
DTSTART;TZID=America/New_York:20250315T100000
DTEND;TZID=America/New_York:20250315T130000
DTSTAMP:20260422T181811
CREATED:20250108T010536Z
LAST-MODIFIED:20250304T004736Z
UID:23746-1742032800-1742043600@rcnytristate.org
SUMMARY:In His Image: Do We Really Have a Soul?
DESCRIPTION:Join us for a Young Adult Formation event. We hope you can join us and meet fellow RC members! \nPlease donate $15 to cover pizza @RCNewYork. \nTo learn more or register\, please contact Fr. Jorge Obregón\, LC at jobregon@legionaries.org
URL:https://rcnytristate.org/event/young-adult-apostolate-social-action/
LOCATION:St. Patrick’s Old Cathedral School\, 32 Prince Street\, New York City\, NY\, 10012\, United States
CATEGORIES:mini retreats,Young Adult
ATTACH;FMTTYPE=image/png:https://rcnytristate.org/wp-content/uploads/2025/01/Header-Image-25.png
ORGANIZER;CN="Fr. Jorge Obregon":MAILTO:jobregon@legionaries.org
END:VEVENT
BEGIN:VEVENT
DTSTART;VALUE=DATE:20250320
DTEND;VALUE=DATE:20250324
DTSTAMP:20260422T181811
CREATED:20240913T182500Z
LAST-MODIFIED:20250307T214847Z
UID:22816-1742428800-1742774399@rcnytristate.org
SUMMARY:RC Women's Triduum of Renewal in New York
DESCRIPTION:A Triduum of Renewal is a means for Regnum Christi members to grow and deepen in their relationship with Christ and in their vocation to Regnum Christi.  Ignatian Spiritual Exercises incorporate the Regnum Christi Spirituality and strengthen members in their formation and identity. \n  \n  \n  \nRegistration fee includes overnight accommodations and meals. \nFr. Josef Hare\, LC will be directing this retreat. \nClick on the link to read the 2024-2025 Cancellation Policy before registering. \nREGISTRATION FOR THIS EVENT IS NOW CLOSED.\nTO BE PLACED ON THE WAIT LIST\, PLEASE CONTACT MARY THERRELL AT events@rcnytristate.org.
URL:https://rcnytristate.org/event/rc-womens-triduum-of-renewal-2/
LOCATION:Graymoor Retreat Center\, 40 Franciscan Way\, Garrison\, NY\, 10524\, United States
CATEGORIES:weekend retreats
ATTACH;FMTTYPE=image/png:https://rcnytristate.org/wp-content/uploads/2024/09/Assumption-Novena-900-x-600-px-900-x-500-px-12.png
ORGANIZER;CN="Mary Therrell":MAILTO:events@rcnytristate.org
END:VEVENT
BEGIN:VEVENT
DTSTART;VALUE=DATE:20250329
DTEND;VALUE=DATE:20250331
DTSTAMP:20260422T181811
CREATED:20241012T004826Z
LAST-MODIFIED:20241013T011242Z
UID:23007-1743206400-1743379199@rcnytristate.org
SUMMARY:Three to Get Married - 2 day program
DESCRIPTION:For over 40 years\, we have prepared couples for the sacrament of marriage. Our Three to Get Married Marriage Preparation Program draws upon the best in contemporary psychology\, practical wisdom from experienced married couples\, and the beauty of the Catholic Church’s teachings on marriage and family life to provide couples with the best foundation on which to build a successful marriage. Our program aims to provide each couple with a reflective and in-depth preparation for a joyful\, faith-filled marriage—based on love that not only endures but actually grows stronger year after year. \nOur Three to Get Married course satisfies the Pre-Cana requirement for those in the Archdiocese of New York\, the Diocese of Bridgeport\, and others by pastoral permission. It is suggested that you register at least 6 months before your wedding. Overnight accommodation is not included. \nSaturday 9:00 am to 6:30 pm and Sunday 9:00 am to 1:30 pm. \n \n\nREGISTER
URL:https://rcnytristate.org/event/three-to-get-married-2-2-3/
LOCATION:LC Rye community house\, 815 Boston Post Road\, Rye\, NY\, 10580\, United States
CATEGORIES:marriage preparation
ATTACH;FMTTYPE=image/png:https://rcnytristate.org/wp-content/uploads/2023/03/3tgm-fc-v2.png
ORGANIZER;CN="Laura Esposito":MAILTO:EspositoLauraMary@gmail.com
END:VEVENT
END:VCALENDAR