BEGIN:VCALENDAR
VERSION:2.0
PRODID:-//RC NY Tri-State - ECPv6.15.20//NONSGML v1.0//EN
CALSCALE:GREGORIAN
METHOD:PUBLISH
X-WR-CALNAME:RC NY Tri-State
X-ORIGINAL-URL:https://rcnytristate.org
X-WR-CALDESC:Events for RC NY Tri-State
REFRESH-INTERVAL;VALUE=DURATION:PT1H
X-Robots-Tag:noindex
X-PUBLISHED-TTL:PT1H
BEGIN:VTIMEZONE
TZID:America/New_York
BEGIN:DAYLIGHT
TZOFFSETFROM:-0500
TZOFFSETTO:-0400
TZNAME:EDT
DTSTART:20240310T070000
END:DAYLIGHT
BEGIN:STANDARD
TZOFFSETFROM:-0400
TZOFFSETTO:-0500
TZNAME:EST
DTSTART:20241103T060000
END:STANDARD
BEGIN:DAYLIGHT
TZOFFSETFROM:-0500
TZOFFSETTO:-0400
TZNAME:EDT
DTSTART:20250309T070000
END:DAYLIGHT
BEGIN:STANDARD
TZOFFSETFROM:-0400
TZOFFSETTO:-0500
TZNAME:EST
DTSTART:20251102T060000
END:STANDARD
BEGIN:DAYLIGHT
TZOFFSETFROM:-0500
TZOFFSETTO:-0400
TZNAME:EDT
DTSTART:20260308T070000
END:DAYLIGHT
BEGIN:STANDARD
TZOFFSETFROM:-0400
TZOFFSETTO:-0500
TZNAME:EST
DTSTART:20261101T060000
END:STANDARD
END:VTIMEZONE
BEGIN:VEVENT
DTSTART;TZID=America/New_York:20250405T100000
DTEND;TZID=America/New_York:20250405T140000
DTSTAMP:20260422T165417
CREATED:20250108T010642Z
LAST-MODIFIED:20250121T192241Z
UID:23748-1743847200-1743861600@rcnytristate.org
SUMMARY:Young Adult Holy Week Retreat
DESCRIPTION:We want to invite you to our morning retreat at Old St. Patrick’s Cathedral. This retreat will include guided meditations\, adoration\, confessions\, lunch and more! \nPlease donate $15 to cover pizza and coffee @RCNewYork. \nTo learn more or register\, please contact Fr. Jorge Obregón\, LC at jobregon@legionaries.org
URL:https://rcnytristate.org/event/young-adult-holy-week-retreat/
LOCATION:St. Patrick’s Old Cathedral School\, 32 Prince Street\, New York City\, NY\, 10012\, United States
CATEGORIES:mini retreats,Young Adult
ATTACH;FMTTYPE=image/png:https://rcnytristate.org/wp-content/uploads/2025/01/Heading-2.png
ORGANIZER;CN="Fr. Jorge Obregon":MAILTO:jobregon@legionaries.org
END:VEVENT
BEGIN:VEVENT
DTSTART;TZID=America/New_York:20250409T093000
DTEND;TZID=America/New_York:20250409T120000
DTSTAMP:20260422T165417
CREATED:20240816T184044Z
LAST-MODIFIED:20250222T140819Z
UID:22545-1744191000-1744200000@rcnytristate.org
SUMMARY:The King Who is Priest: New Jersey Women’s Morning Retreat
DESCRIPTION:  \nJoin us for our monthly mini retreat. \nEach retreat includes Mass\, the opportunity for Confession\, a reflection for the mind and heart\, and time for fellowship. \nFee for Regnum Christi Members: $25 \nFee for guests: $10 \nFree childcare will be available during this retreat. \nREGISTER
URL:https://rcnytristate.org/event/nj-morning-of-reflection-for-women-5/
LOCATION:Shrine of St. Joseph\, 1050 LONG HILL ROAD\, Stirling\, 07980\, United States
CATEGORIES:mini retreats
ATTACH;FMTTYPE=image/png:https://rcnytristate.org/wp-content/uploads/2024/08/Assumption-Novena-900-x-600-px-900-x-500-px-9.png
ORGANIZER;CN="Sue Zavodny":MAILTO:zavodnys@comcast.net
END:VEVENT
BEGIN:VEVENT
DTSTART;TZID=America/New_York:20250409T183000
DTEND;TZID=America/New_York:20250409T210000
DTSTAMP:20260422T165417
CREATED:20240819T160219Z
LAST-MODIFIED:20250116T034945Z
UID:22568-1744223400-1744232400@rcnytristate.org
SUMMARY:The King Who is Priest: Women's New Jersey Evening Retreat
DESCRIPTION:Join us for our monthly mini retreat. \nEach retreat includes Mass\, the opportunity for Confession\, a reflection for the mind and heart\, and time for fellowship. \nFee for Regnum Christi Members: $25 \nFee for guests: $10 \nREGISTER
URL:https://rcnytristate.org/event/nj-evening-of-reflection-for-women-9/
LOCATION:Shrine of St. Joseph\, 1050 LONG HILL ROAD\, Stirling\, 07980\, United States
CATEGORIES:mini retreats
ATTACH;FMTTYPE=image/png:https://rcnytristate.org/wp-content/uploads/2024/08/Assumption-Novena-900-x-600-px-900-x-500-px-9.png
ORGANIZER;CN="Sue Zavodny":MAILTO:zavodnys@comcast.net
END:VEVENT
BEGIN:VEVENT
DTSTART;TZID=America/New_York:20250412T091500
DTEND;TZID=America/New_York:20250412T123000
DTSTAMP:20260422T165417
CREATED:20240819T155944Z
LAST-MODIFIED:20250116T034824Z
UID:22562-1744449300-1744461000@rcnytristate.org
SUMMARY:The King Who is Priest: Women's New York Morning Retreat
DESCRIPTION:The King Who is Priest: Entering into the Prayer of Christ in the Liturgy … worshipping God and not society’s idols \n  \nThe morning will begin with light refreshments and a talk followed by Exposition\, Meditation\, and Mass. \nREGISTER
URL:https://rcnytristate.org/event/rye-morning-of-reflection-for-women-5/
LOCATION:LC Rye community house\, 815 Boston Post Road\, Rye\, NY\, 10580\, United States
CATEGORIES:mini retreats
ATTACH;FMTTYPE=image/png:https://rcnytristate.org/wp-content/uploads/2024/08/Assumption-Novena-900-x-600-px-900-x-500-px-9.png
ORGANIZER;CN="Valerie Anastasio":MAILTO:valerieanastasio@me.com
END:VEVENT
BEGIN:VEVENT
DTSTART;VALUE=DATE:20250414
DTEND;VALUE=DATE:20250419
DTSTAMP:20260422T165417
CREATED:20250309T035417Z
LAST-MODIFIED:20250314T210208Z
UID:24081-1744588800-1745020799@rcnytristate.org
SUMMARY:Holy Week Missions
DESCRIPTION:Join us for our Holy Week Street Mission in the heart of New York City. \nMonday: Manhattan  –  St. Patrick’s Cathedral  –  3 p.m. to 8 p.m. \nWednesday: Soho  –  Old St. Pat’s  –  4 p.m. to 7:30 p.m. \nHoly Thursday: Soho  –  Old St. Pat’s  –  3 p.m. to 7 p.m. \nGood Friday: Soho  –  Old St. Pat’s  –  2 p.m. to 7 p.m. \nA training session will be offered\, via Zoom\, prior to the Missions. Please register to receive information as Holy Week approaches. \nREGISTER \n 
URL:https://rcnytristate.org/event/holy-week-missions/
LOCATION:Saint Patrick’s Cathedral\, 5th Avenue\, NY\, NY\, United States
CATEGORIES:missions,nyc missions
ATTACH;FMTTYPE=image/png:https://rcnytristate.org/wp-content/uploads/2025/03/Header-Image-30.png
ORGANIZER;CN="Mary Therrell":MAILTO:events@rcnytristate.org
END:VEVENT
BEGIN:VEVENT
DTSTART;VALUE=DATE:20250416
DTEND;VALUE=DATE:20250422
DTSTAMP:20260422T165417
CREATED:20241211T202905Z
LAST-MODIFIED:20250412T102353Z
UID:23620-1744761600-1745279999@rcnytristate.org
SUMMARY:Holy Week Test Your Call Retreat
DESCRIPTION:The Easter Triduum (Holy Thursday to Easter Sunday) is the most powerful and impactful time in the church. There is no better time to visit our house than during these holy days! Besides the beautiful liturgies\, a Legionary priest will lead you through guided prayer and discernment talks. There will be plenty of time for prayer and adoration as well as sports and conversation with the brothers! There will be opportunities for confession and spiritual direction as well. It is an intense – and incredible – experience! \nMORE INFO & TO REGISTER
URL:https://rcnytristate.org/event/holy-week-test-your-call-retreat-3/
LOCATION:Legionaries of Christ Novitiate & College of Humanities\, 475 Oak Avenue\, Cheshire\, CT\, 06411\, United States
CATEGORIES:Test Your Call,vocation events
ATTACH;FMTTYPE=image/png:https://rcnytristate.org/wp-content/uploads/2024/12/TYC-2024-TKBQgW.tmp_.png
ORGANIZER;CN="Fr. Nathan Torrey%2C LC":MAILTO:visit@lccheshire.org
END:VEVENT
BEGIN:VEVENT
DTSTART;TZID=America/New_York:20250426T160000
DTEND;TZID=America/New_York:20250426T223000
DTSTAMP:20260422T165417
CREATED:20250203T040719Z
LAST-MODIFIED:20250408T183720Z
UID:23883-1745683200-1745706600@rcnytristate.org
SUMMARY:2025 Spring Benefit - To Ignite the Priesthood
DESCRIPTION:“For the bread of God is that which comes down from Heaven and gives life to the world” John 6:33\n\nWe are thrilled to invite you to our 2025 Annual Gala. This year\, we will be “Sent Forth From the Upper Room to support vocations to the Priesthood. We’ll also celebrate our Consecrated Women\, our faithful Catholic families\, as well as our commitment to Regnum Christi. \nOn April 26\, 2025\, we will reunite as a spiritual family and rekindle the power of the Holy Spirit given to the apostles in the Upper Room. \nOur evening will begin with a beautiful Mass\, followed by inspirational speakers\, fine dining\, and fellowship as we support the Legionaries of Christ and the Tri-State Regnum Christi Mission. \nFor more information or to make a donation CLICK HERE.
URL:https://rcnytristate.org/event/2025-spring-benefit-to-ignite-the-priesthood/
LOCATION:Reid Castle at Manhattanville College\, 2900 Purchase St\, Purchase\, NY\, 10577\, United States
CATEGORIES:Special Event
ATTACH;FMTTYPE=image/jpeg:https://rcnytristate.org/wp-content/uploads/2025/02/Gala_Email_Banner-copy.jpg
ORGANIZER;CN="Melissa Gordon":MAILTO:mgordon@legionofchrist.org
END:VEVENT
END:VCALENDAR