BEGIN:VCALENDAR
VERSION:2.0
PRODID:-//RC NY Tri-State - ECPv6.15.20//NONSGML v1.0//EN
CALSCALE:GREGORIAN
METHOD:PUBLISH
X-ORIGINAL-URL:https://rcnytristate.org
X-WR-CALDESC:Events for RC NY Tri-State
REFRESH-INTERVAL;VALUE=DURATION:PT1H
X-Robots-Tag:noindex
X-PUBLISHED-TTL:PT1H
BEGIN:VTIMEZONE
TZID:America/New_York
BEGIN:DAYLIGHT
TZOFFSETFROM:-0500
TZOFFSETTO:-0400
TZNAME:EDT
DTSTART:20240310T070000
END:DAYLIGHT
BEGIN:STANDARD
TZOFFSETFROM:-0400
TZOFFSETTO:-0500
TZNAME:EST
DTSTART:20241103T060000
END:STANDARD
BEGIN:DAYLIGHT
TZOFFSETFROM:-0500
TZOFFSETTO:-0400
TZNAME:EDT
DTSTART:20250309T070000
END:DAYLIGHT
BEGIN:STANDARD
TZOFFSETFROM:-0400
TZOFFSETTO:-0500
TZNAME:EST
DTSTART:20251102T060000
END:STANDARD
BEGIN:DAYLIGHT
TZOFFSETFROM:-0500
TZOFFSETTO:-0400
TZNAME:EDT
DTSTART:20260308T070000
END:DAYLIGHT
BEGIN:STANDARD
TZOFFSETFROM:-0400
TZOFFSETTO:-0500
TZNAME:EST
DTSTART:20261101T060000
END:STANDARD
END:VTIMEZONE
BEGIN:VEVENT
DTSTART;VALUE=DATE:20250905
DTEND;VALUE=DATE:20250908
DTSTAMP:20260422T093458
CREATED:20250714T031713Z
LAST-MODIFIED:20250714T031713Z
UID:25194-1757030400-1757289599@rcnytristate.org
SUMMARY:Spiritual Exercises for Women
DESCRIPTION:September 5 – 7\, 2025                                                \n Immaculate Conception Center Route 21 North (600 Liberty Highway) Putnam\, CT  06260 \nThe silent retreat is based on the Spiritual Exercises of St. Ignatius Loyola and is comprised of guided meditations\, conferences\, private reflection\, Mass\, and opportunities for Confession. The retreat focuses on the gospels and the fullness of the Catholic faith\, opening the soul to the transforming power of grace. \n  \n\nPlease bring a bible\, rosary\, and towels.  \nArrival:  Friday at 4:00 p.m.  Departure:  Sunday at 2:00 p.m.\nThe retreat is preached by a Legionnaire of Christ priest and includes a private room\, shared bath\, six meals\, gluten or dairy free available* lodging\, and retreat materials.  No towels will be provided.\nQuestions?  Please call Deb Doyle  (401) 742-7996 ddoyle139@aol.com     \n\nREGISTRATION FORM
URL:https://rcnytristate.org/event/spiritual-exercises-for-women-2/
LOCATION:Immaculate Conception Center\, 600 Liberty Highway)\, Putnam\, CT\, 06260\, United States
CATEGORIES:healing retreats,Special Event,weekend retreats
ATTACH;FMTTYPE=image/png:https://rcnytristate.org/wp-content/uploads/2025/07/Heading-1600-x-900-px-17.png
ORGANIZER;CN="Deb Doyle":MAILTO:ddoyle139@aol.com
END:VEVENT
BEGIN:VEVENT
DTSTART;TZID=America/New_York:20250912T160000
DTEND;TZID=America/New_York:20250912T210000
DTSTAMP:20260422T093458
CREATED:20240408T154832Z
LAST-MODIFIED:20250904T204252Z
UID:21366-1757692800-1757710800@rcnytristate.org
SUMMARY:2025 San Gennaro Mission
DESCRIPTION:Date: September 12th \nIn-Person Training: 3:00 pm at Mission HQ (132 Prince St.) \nMission Start Time: 4:00 pm \nPlace: St Patrick’s Old Cathedral\, 263 Mulberry St\, New York\, NY 10012 \nMass: 7:30 pm \nDinner/Wrap-Up: 8:00 pm at Mission HQ (132 Prince St.) \nVideo Training for those who pre-register:  A Zoom link will be sent to your email. \nREGISTER \nRead mission posts from last year
URL:https://rcnytristate.org/event/2024-san-gennaro-mission/
LOCATION:Saint Patrick’s Old Cathedral\, 263 Mulberry Street\, NY\, NY\, United States
CATEGORIES:nyc missions
ATTACH;FMTTYPE=image/jpeg:https://rcnytristate.org/wp-content/uploads/2023/04/nyc-mission-fc-e1682973149258.jpg
ORGANIZER;CN="Evelyn Auth":MAILTO:auth.em04@gmail.com
END:VEVENT
BEGIN:VEVENT
DTSTART;TZID=America/New_York:20250920T160000
DTEND;TZID=America/New_York:20250920T190000
DTSTAMP:20260422T093458
CREATED:20250809T005148Z
LAST-MODIFIED:20250818T190413Z
UID:25301-1758384000-1758394800@rcnytristate.org
SUMMARY:Opening Mass & Picnic
DESCRIPTION:Join Us For Our Annual Welcome Back Mass and Picnic at the home of the Legionaries of Christ. \nSept. 20\, 2025 \n4:00-7:00 PM \n\nVolunteers Needed for Set up and Clean up and help with Mass\nPlease consider bring your favorite dish to share.\n\nUpon registration\, a sign up link will be provided in your confirmation email\, or you can come back to this page and click on the volunteer link below. \nREGISTER \nVOLUNTEER
URL:https://rcnytristate.org/event/opening-mass-picnic/
LOCATION:LC Rye community house\, 815 Boston Post Road\, Rye\, NY\, 10580\, United States
CATEGORIES:RC member events,Special Event
ATTACH;FMTTYPE=image/png:https://rcnytristate.org/wp-content/uploads/2025/08/60428c4b-eb7a-a7ba-1626-75ad78001853.png
ORGANIZER;CN="Lisa Rooney":MAILTO:lisarooney76@gmail.com
END:VEVENT
BEGIN:VEVENT
DTSTART;TZID=America/New_York:20250924T093000
DTEND;TZID=America/New_York:20250924T123000
DTSTAMP:20260422T093458
CREATED:20250819T023612Z
LAST-MODIFIED:20250819T023612Z
UID:26085-1758706200-1758717000@rcnytristate.org
SUMMARY:NJ Morning of Reflection for Regnum Christi Women
DESCRIPTION:This retreat is for Regnum Christi Members only and includes Mass\, the opportunity for Confession\, a reflection for the mind and heart\, and time for fellowship. \nIf you are not Regnum Christi\, please join us for our retreats on Oct. 17th\, Dec. 17th and Mar. 18th. \nREGISTER
URL:https://rcnytristate.org/event/nj-morning-of-reflection-for-regnum-christi-women-3/
LOCATION:Shrine of St. Joseph\, 1050 LONG HILL ROAD\, Stirling\, 07980\, United States
CATEGORIES:mini retreats,Retreats
ATTACH;FMTTYPE=image/png:https://rcnytristate.org/wp-content/uploads/2025/08/2024-Professions-8.png
ORGANIZER;CN="Sue Zavodny":MAILTO:zavodnys@comcast.net
END:VEVENT
BEGIN:VEVENT
DTSTART;VALUE=DATE:20250925
DTEND;VALUE=DATE:20250929
DTSTAMP:20260422T093458
CREATED:20250714T031920Z
LAST-MODIFIED:20250716T152127Z
UID:25200-1758758400-1759103999@rcnytristate.org
SUMMARY:RC Women’s Triduum of Renewal
DESCRIPTION:September 25-28\, 2025  \nMarytown Retreat & Conference Center\n1600 W Park Ave\nLibertyville\, IL 60048 United States                                               \nThese days of particular dedication to the spirit are an excellent opportunity for Regnum Christi members to experience a fruitful and refreshing encounter with God and themselves. It is a time to mature and strengthen our faith\, gain a deeper knowledge of ourselves in Christ\, reinforce our Christian and apostolic spirit\, and serenely seek God’s will and bring the profound decisions of our life into line with the Gospel. \nThe tranquil\, natural surroundings of this 1000+ acre environment allows you to easily let go of the distractions of everyday life. Take a walk on our nature trail around St Mary’s Lake\, enjoy praying at the Grotto\, The outside Stations of the Cross\, The Divine mercy garden\, the St Therese Garden and many other prayer gardens in the campus grounds.  You will have the refreshing opportunity to pray\, to learn about yourself\, to deepen your knowledge of the Scriptures and the Catholic faith\, to seek God’s will for your life\, and to experience the tremendous\, personal love that Jesus Christ has for you. \nQuestions?  Please call Donna Garrett dgarrett@rcfed.org \nREGISTER
URL:https://rcnytristate.org/event/spiritual-exercises-for-women-3/
LOCATION:CT
CATEGORIES:healing retreats,Special Event,weekend retreats
ATTACH;FMTTYPE=image/png:https://rcnytristate.org/wp-content/uploads/2025/07/Heading-1600-x-900-px-17.png
ORGANIZER;CN="Donna Garrett":MAILTO:dgarrett@rcfed.org
END:VEVENT
BEGIN:VEVENT
DTSTART;TZID=America/New_York:20250925T183000
DTEND;TZID=America/New_York:20250925T203000
DTSTAMP:20260422T093458
CREATED:20250819T023255Z
LAST-MODIFIED:20250924T233417Z
UID:26103-1758825000-1758832200@rcnytristate.org
SUMMARY:CANCELED - Come Worship the King!
DESCRIPTION:We’re sorry to announce that due to the weather\, this event has been canceled. We appreciate your understanding.  \n  \nJoin us for a unique and powerful evening of praise\, worship\, live music\, and fellowship as we gather at the house of the Legionaries of Christ in Rye. This outdoor event is for the whole family! Feel free to invite friends as well. There will be a food truck on site providing American cuisine for purchase before the Adoration hour. \nOutdoor Event \nFood and LIVE Worship Music \nConfession will be offered. Let us adore HIM as a Regnum Christi Family! \nADORATION WITH LIVE MUSIC: 6:30-8:30 \n815 Boston Post Rd\, Rye\, NY
URL:https://rcnytristate.org/event/come-worship-the-king-10/
LOCATION:LC Rye community house\, 815 Boston Post Road\, Rye\, NY\, 10580\, United States
CATEGORIES:Special Event
ATTACH;FMTTYPE=image/png:https://rcnytristate.org/wp-content/uploads/2025/08/WTK-2025-2026-1.png
ORGANIZER;CN="Melissa Gordon":MAILTO:mgordon@legionofchrist.org
END:VEVENT
END:VCALENDAR