BEGIN:VCALENDAR
VERSION:2.0
PRODID:-//RC NY Tri-State - ECPv6.15.20//NONSGML v1.0//EN
CALSCALE:GREGORIAN
METHOD:PUBLISH
X-ORIGINAL-URL:https://rcnytristate.org
X-WR-CALDESC:Events for RC NY Tri-State
REFRESH-INTERVAL;VALUE=DURATION:PT1H
X-Robots-Tag:noindex
X-PUBLISHED-TTL:PT1H
BEGIN:VTIMEZONE
TZID:America/New_York
BEGIN:DAYLIGHT
TZOFFSETFROM:-0500
TZOFFSETTO:-0400
TZNAME:EDT
DTSTART:20240310T070000
END:DAYLIGHT
BEGIN:STANDARD
TZOFFSETFROM:-0400
TZOFFSETTO:-0500
TZNAME:EST
DTSTART:20241103T060000
END:STANDARD
BEGIN:DAYLIGHT
TZOFFSETFROM:-0500
TZOFFSETTO:-0400
TZNAME:EDT
DTSTART:20250309T070000
END:DAYLIGHT
BEGIN:STANDARD
TZOFFSETFROM:-0400
TZOFFSETTO:-0500
TZNAME:EST
DTSTART:20251102T060000
END:STANDARD
BEGIN:DAYLIGHT
TZOFFSETFROM:-0500
TZOFFSETTO:-0400
TZNAME:EDT
DTSTART:20260308T070000
END:DAYLIGHT
BEGIN:STANDARD
TZOFFSETFROM:-0400
TZOFFSETTO:-0500
TZNAME:EST
DTSTART:20261101T060000
END:STANDARD
END:VTIMEZONE
BEGIN:VEVENT
DTSTART;VALUE=DATE:20251004
DTEND;VALUE=DATE:20251006
DTSTAMP:20260422T080126
CREATED:20250312T203149Z
LAST-MODIFIED:20250818T153940Z
UID:24116-1759536000-1759708799@rcnytristate.org
SUMMARY:Three to Get Married - 2 day program (FULL)
DESCRIPTION:This event has reached capacity. To be placed on a wait list\, please contact Laura Esposito at this email address – EspositoLauraMary@gmail.com \n  \nFor over 40 years\, we have prepared couples for the sacrament of marriage. Our Three to Get Married Marriage Preparation Program draws upon the best in contemporary psychology\, practical wisdom from experienced married couples\, and the beauty of the Catholic Church’s teachings on marriage and family life to provide couples with the best foundation on which to build a successful marriage. Our program aims to provide each couple with a reflective and in-depth preparation for a joyful\, faith-filled marriage—based on love that not only endures but actually grows stronger year after year. \nOur Three to Get Married course satisfies the Pre-Cana requirement for those in the Archdiocese of New York\, the Diocese of Bridgeport\, and others by pastoral permission. It is suggested that you register at least 6 months before your wedding. Overnight accommodation is not included. \nSaturday 9:00 am to 6:30 pm and Sunday 9:00 am to 1:30 pm.
URL:https://rcnytristate.org/event/three-to-get-married-2-day-program/
LOCATION:LC Rye community house\, 815 Boston Post Road\, Rye\, NY\, 10580\, United States
CATEGORIES:marriage preparation
ATTACH;FMTTYPE=image/png:https://rcnytristate.org/wp-content/uploads/2023/03/3tgm-fc-v2.png
ORGANIZER;CN="Laura Esposito":MAILTO:EspositoLauraMary@gmail.com
END:VEVENT
BEGIN:VEVENT
DTSTART;TZID=America/New_York:20251010T093000
DTEND;TZID=America/New_York:20251010T123000
DTSTAMP:20260422T080126
CREATED:20250819T023441Z
LAST-MODIFIED:20250924T004918Z
UID:26076-1760088600-1760099400@rcnytristate.org
SUMMARY:NJ Morning of Reflection
DESCRIPTION:Join us for our monthly mini retreat. \nEach retreat includes Mass\, the opportunity for Confession\, a reflection for the mind and heart\, and time for fellowship. \nFee for Regnum Christi Members: $25 \nFee for guests: $10 \nREGISTER
URL:https://rcnytristate.org/event/nj-morning-of-reflection-2/
LOCATION:Shrine of St. Joseph\, 1050 LONG HILL ROAD\, Stirling\, 07980\, United States
CATEGORIES:mini retreats,Retreats
ATTACH;FMTTYPE=image/png:https://rcnytristate.org/wp-content/uploads/2025/08/2024-Professions-8.png
ORGANIZER;CN="Sue Zavodny":MAILTO:zavodnys@comcast.net
END:VEVENT
BEGIN:VEVENT
DTSTART;VALUE=DATE:20251017
DTEND;VALUE=DATE:20251020
DTSTAMP:20260422T080126
CREATED:20250509T153754Z
LAST-MODIFIED:20251014T105638Z
UID:24749-1760659200-1760918399@rcnytristate.org
SUMMARY:Forming Apostles: Young Adult Conference
DESCRIPTION:A Transformational Experience\n\n\n\n\n\n\n\n\nThe Regnum Christi Young Adult Convention in New York is an inspiring gathering for members of the Regnum Christi family across the United States\, and for friends who want to dive deeper into their faith and mission. \nUnder the theme “Forming Apostles for the New Times”\, we will unite as a spiritual family to reignite our hearts with Christ’s love and renew our collective mission of spreading His Kingdom. \nThis conference\, guided by the presence of the Holy Spirit\, will be a kairos of spiritual growth that will bring a sound mind and an unshakable spiritual peace to all of us. \nAges 22 to 38 \n$175 USD early bird (Ends October 10\, 2025) \n$225 USD regular price \n\nREGISTRATION FOR THIS EVENT IS NOW CLOSED \n\nLODGING \nLooking for a place to stay during your trip? Here are some affordable options: \nHephzibah House: $85\n51 W 75th Street\nNew York\, NY 10023\n(212) 787-6150 \nPeaceful\, affordable accommodation in the heart of Manhattan for those in vocational ministry. \nHouse of the Redeemer: $140; $160 for a double\n7 E 95th St\, New York\, NY 10128\n(212) 289-0399 \nThe House has a number of simple\, pleasant accommodations for individuals coming to New York for medical treatment\, & accommodations for individuals associated with churches + nonprofits. \nAdditionally\, there is a limited number of spots available through the Regnum Christi young adults community who have generously offered to host guests in their home. Please contact Kevin at kevned530@gmail.com for availability.
URL:https://rcnytristate.org/event/forming-apostles-young-adult-conference/
LOCATION:St. Patrick’s Old Cathedral School\, 32 Prince Street\, New York City\, NY\, 10012\, United States
CATEGORIES:RC member events,Special Event,Young Adult
ATTACH;FMTTYPE=image/png:https://rcnytristate.org/wp-content/uploads/2025/05/Heading-1600-x-900-px-1-1.png
ORGANIZER;CN="Juliette Lefebvre":MAILTO:j.lefeb96@gmail.com
END:VEVENT
BEGIN:VEVENT
DTSTART;TZID=America/New_York:20251018T091500
DTEND;TZID=America/New_York:20251018T123000
DTSTAMP:20260422T080126
CREATED:20250904T183009Z
LAST-MODIFIED:20251013T183916Z
UID:26110-1760778900-1760790600@rcnytristate.org
SUMMARY:NY/CT Morning or Reflection
DESCRIPTION:The morning will begin with light refreshments and a talk followed by Exposition\, Meditation\, and Mass. \nREGISTER
URL:https://rcnytristate.org/event/ny-ct-morning-or-reflection/
LOCATION:LC Rye community house\, 815 Boston Post Road\, Rye\, NY\, 10580\, United States
CATEGORIES:mini retreats
ATTACH;FMTTYPE=image/png:https://rcnytristate.org/wp-content/uploads/2025/09/BlessedBe-1.png
ORGANIZER;CN="Lisa Rooney":MAILTO:lisarooney76@gmail.com
END:VEVENT
END:VCALENDAR