BEGIN:VCALENDAR
VERSION:2.0
PRODID:-//RC NY Tri-State - ECPv6.15.20//NONSGML v1.0//EN
CALSCALE:GREGORIAN
METHOD:PUBLISH
X-WR-CALNAME:RC NY Tri-State
X-ORIGINAL-URL:https://rcnytristate.org
X-WR-CALDESC:Events for RC NY Tri-State
REFRESH-INTERVAL;VALUE=DURATION:PT1H
X-Robots-Tag:noindex
X-PUBLISHED-TTL:PT1H
BEGIN:VTIMEZONE
TZID:America/New_York
BEGIN:DAYLIGHT
TZOFFSETFROM:-0500
TZOFFSETTO:-0400
TZNAME:EDT
DTSTART:20240310T070000
END:DAYLIGHT
BEGIN:STANDARD
TZOFFSETFROM:-0400
TZOFFSETTO:-0500
TZNAME:EST
DTSTART:20241103T060000
END:STANDARD
BEGIN:DAYLIGHT
TZOFFSETFROM:-0500
TZOFFSETTO:-0400
TZNAME:EDT
DTSTART:20250309T070000
END:DAYLIGHT
BEGIN:STANDARD
TZOFFSETFROM:-0400
TZOFFSETTO:-0500
TZNAME:EST
DTSTART:20251102T060000
END:STANDARD
BEGIN:DAYLIGHT
TZOFFSETFROM:-0500
TZOFFSETTO:-0400
TZNAME:EDT
DTSTART:20260308T070000
END:DAYLIGHT
BEGIN:STANDARD
TZOFFSETFROM:-0400
TZOFFSETTO:-0500
TZNAME:EST
DTSTART:20261101T060000
END:STANDARD
END:VTIMEZONE
BEGIN:VEVENT
DTSTART;TZID=America/New_York:20251101T170000
DTEND;TZID=America/New_York:20251101T190000
DTSTAMP:20260422T061934
CREATED:20250923T093415Z
LAST-MODIFIED:20250923T093435Z
UID:26389-1762016400-1762023600@rcnytristate.org
SUMMARY:Fr Daniel's Installation Mass
DESCRIPTION:Fr Daniel’s Installation Mass as pastor of St Patrick’s Old Cathedral Saturday\, Nov. 1 5:00 PM. All are welcome! Reception to follow.
URL:https://rcnytristate.org/event/26389/
LOCATION:St Patrick’s Old Cathedral
CATEGORIES:Special Event,special events
ATTACH;FMTTYPE=image/png:https://rcnytristate.org/wp-content/uploads/2025/09/Fr-Daniels-Installation-Mass.png
END:VEVENT
BEGIN:VEVENT
DTSTART;TZID=America/New_York:20251113T183000
DTEND;TZID=America/New_York:20251113T203000
DTSTAMP:20260422T061934
CREATED:20250819T023142Z
LAST-MODIFIED:20250819T023142Z
UID:26105-1763058600-1763065800@rcnytristate.org
SUMMARY:Come Worship the King!
DESCRIPTION:Join us for a unique and powerful evening of praise\, worship\, live music\, and fellowship as we gather at the house of the Legionaries of Christ in Rye. This outdoor event is for the whole family! Feel free to invite friends as well. There will be a food truck on site providing American cuisine for purchase before the Adoration hour. \nOutdoor Event \nFood and LIVE Worship Music \nConfession will be offered. Let us adore HIM as a Regnum Christi Family! \nADORATION WITH LIVE MUSIC: 6:30-8:30 \n815 Boston Post Rd\, Rye\, NY
URL:https://rcnytristate.org/event/come-worship-the-king-9/
LOCATION:LC Rye community house\, 815 Boston Post Road\, Rye\, NY\, 10580\, United States
CATEGORIES:Special Event
ATTACH;FMTTYPE=image/jpeg:https://rcnytristate.org/wp-content/uploads/2024/07/WhatsApp-Image-2023-11-19-at-12.08.31-PM.jpeg
ORGANIZER;CN="Melissa Gordon":MAILTO:mgordon@legionofchrist.org
END:VEVENT
BEGIN:VEVENT
DTSTART;TZID=America/New_York:20251116T143000
DTEND;TZID=America/New_York:20251116T173000
DTSTAMP:20260422T061934
CREATED:20250911T190625Z
LAST-MODIFIED:20251013T184139Z
UID:26296-1763303400-1763314200@rcnytristate.org
SUMMARY:Regnum Christi Day Celebration
DESCRIPTION:Come join together with your Regnum Christi Family to celebrate this great day where we honor Christ the King! \nREGISTER
URL:https://rcnytristate.org/event/regnum-christi-day-celebration/
LOCATION:Shrine of St. Joseph\, 1050 LONG HILL ROAD\, Stirling\, 07980\, United States
CATEGORIES:special events
ATTACH;FMTTYPE=image/png:https://rcnytristate.org/wp-content/uploads/2024/09/Assumption-Novena-900-x-600-px-900-x-500-px-11.png
ORGANIZER;CN="Mary Therrell":MAILTO:events@rcnytristate.org
END:VEVENT
BEGIN:VEVENT
DTSTART;VALUE=DATE:20251128
DTEND;VALUE=DATE:20251201
DTSTAMP:20260422T061934
CREATED:20250606T210633Z
LAST-MODIFIED:20251123T171904Z
UID:25011-1764288000-1764547199@rcnytristate.org
SUMMARY:Thanksgiving Come and See 2025
DESCRIPTION:Arrival November 28; Departure November 30\nDon’t just pray about your vocation\, do something about it! Prepare yourself for an intense yet beautiful weekend\, featuring Daily Mass and adoration\, opportunities for Spiritual Direction and Confession\, workshops and guidance on discernment and prayer\, as well as hikes and conversations with the brothers. \nMORE INFO & TO REGISTER
URL:https://rcnytristate.org/event/thanksgiving-come-and-see-2025/
LOCATION:Legionaries of Christ Novitiate & College of Humanities\, 475 Oak Avenue\, Cheshire\, CT\, 06411\, United States
CATEGORIES:Test Your Call,vocation events
ATTACH;FMTTYPE=image/png:https://rcnytristate.org/wp-content/uploads/2025/06/TYC-1-0Y9W9K.png
ORGANIZER;CN="Fr. Jason Smith%2C LC":MAILTO:jsmith@legionaries.org
END:VEVENT
END:VCALENDAR