BEGIN:VCALENDAR
VERSION:2.0
PRODID:-//RC NY Tri-State - ECPv6.15.20//NONSGML v1.0//EN
CALSCALE:GREGORIAN
METHOD:PUBLISH
X-ORIGINAL-URL:https://rcnytristate.org
X-WR-CALDESC:Events for RC NY Tri-State
REFRESH-INTERVAL;VALUE=DURATION:PT1H
X-Robots-Tag:noindex
X-PUBLISHED-TTL:PT1H
BEGIN:VTIMEZONE
TZID:America/New_York
BEGIN:DAYLIGHT
TZOFFSETFROM:-0500
TZOFFSETTO:-0400
TZNAME:EDT
DTSTART:20230312T070000
END:DAYLIGHT
BEGIN:STANDARD
TZOFFSETFROM:-0400
TZOFFSETTO:-0500
TZNAME:EST
DTSTART:20231105T060000
END:STANDARD
BEGIN:DAYLIGHT
TZOFFSETFROM:-0500
TZOFFSETTO:-0400
TZNAME:EDT
DTSTART:20240310T070000
END:DAYLIGHT
BEGIN:STANDARD
TZOFFSETFROM:-0400
TZOFFSETTO:-0500
TZNAME:EST
DTSTART:20241103T060000
END:STANDARD
BEGIN:DAYLIGHT
TZOFFSETFROM:-0500
TZOFFSETTO:-0400
TZNAME:EDT
DTSTART:20250309T070000
END:DAYLIGHT
BEGIN:STANDARD
TZOFFSETFROM:-0400
TZOFFSETTO:-0500
TZNAME:EST
DTSTART:20251102T060000
END:STANDARD
END:VTIMEZONE
BEGIN:VEVENT
DTSTART;VALUE=DATE:20240721
DTEND;VALUE=DATE:20240728
DTSTAMP:20260423T005717
CREATED:20240307T162603Z
LAST-MODIFIED:20240701T024729Z
UID:20943-1721520000-1722124799@rcnytristate.org
SUMMARY:2024 Challenge Camp - Inspire
DESCRIPTION:Theme: Inspire!\nThis year’s camp theme is INSPIRE – Find your inspiration and be an inspiration! The activities will center on the beauty of inspiring other people and how beauty inspires us to encounter God. We will try to help each camper be inspired to be the best version of herself as a young woman in today’s world. Every day we will focus on helping the girls be inspired to pray and live their faith in a real relationship with Jesus.  Read a post about last year’s camp! \n \nDay in the Life of a Camper\nGirls will participate in activities to strengthen their bonds of friendship and make new ones! They will enjoy prayer and spiritual growth\, through participation in Mass and spiritual mentoring. Confession will be available. Each day includes sports\, games\, workshops\, team dynamics\, exciting night activities\, a low ropes course\, swimming and fun in the sun\, as well as many other fun camp surprises! \nAll About Camp\nDATES: July 21-27\, 2024\nAGES: Girls rising to 5th – 12th grade\nCOST: $685\nLOCATION: Incarnation Center\, Ivoryton\, CT \nOur Camp Staff\nOur camp staff is made up of a wonderful team of high school camp counselors/team leaders and adult volunteers (moms and Consecrated)\, with Fr. John Pietropaoli\, LC as our camp chaplain. Campers will be led by our camp team leaders and supervised by our camp adult volunteers. \nRegistration\n1.\nDownload\, print\, and complete forms.\nregistration form \n2-page permission form \nauthorization to give medication \npacking list \nIf unable to download and print forms\, please contact Cindy Douglas at cdkd0927@gmail.com \n  \n\n2.\nMail-in the forms\nThe registration form\, 2-page permission form\, medication form\, and if paying by check the full payment of $685 to Cindy Douglas\, 260 Sunny Ridge Road\, Harrison NY 10528. \n-or- \nScan forms and attach them to an email\nScan forms and send as an attachment to Cindy Douglas at cdkd0927@gmail.com. \n\n3.\nPay by check\nChecks should be made out to RC Activities\, Inc. and mailed to Cindy Douglas\, 260 Sunny Ridge Road\, Harrison NY 10528. \n-or- \nPay online\n  \n\nQuestions?\nContact: Sallie Roth (Camp Director) at 203-415-9649 or saroth817@gmail.com \nAbout Challenge\nChallenge is a network of clubs for girls ages 10-18\, to get to know more about Christ and their Catholic faith\, and work to better the world around them. Challenge is team-based\, teen-led\, service-driven\, and with a virtue-centered curriculum. Challenge does this through regular team activities\, service projects\, retreats\, and camps. Challenge can be found in parishes and schools across the US and Canada. Find out more at www.challengeclubs.com
URL:https://rcnytristate.org/event/2024-challenge-camp-inspire/
LOCATION:Incarnation Center\, 253 Bushy Hill Rd\, Deep River\, CT\, 06417\, United States
CATEGORIES:challenge events
ATTACH;FMTTYPE=image/png:https://rcnytristate.org/wp-content/uploads/2024/03/RCNY-Website-Photos.png
ORGANIZER;CN="Sallie Roth":MAILTO:saroth817@gmail.com
END:VEVENT
END:VCALENDAR